BEGIN:VCALENDAR
VERSION:2.0
PRODID:-//Roes Cooperativa - ECPv6.15.13//NONSGML v1.0//EN
CALSCALE:GREGORIAN
METHOD:PUBLISH
X-WR-CALNAME:Roes Cooperativa
X-ORIGINAL-URL:https://roes.coop
X-WR-CALDESC:Events for Roes Cooperativa
REFRESH-INTERVAL;VALUE=DURATION:PT1H
X-Robots-Tag:noindex
X-PUBLISHED-TTL:PT1H
BEGIN:VTIMEZONE
TZID:Europe/Athens
BEGIN:DAYLIGHT
TZOFFSETFROM:+0200
TZOFFSETTO:+0300
TZNAME:EEST
DTSTART:20220327T010000
END:DAYLIGHT
BEGIN:STANDARD
TZOFFSETFROM:+0300
TZOFFSETTO:+0200
TZNAME:EET
DTSTART:20221030T010000
END:STANDARD
BEGIN:DAYLIGHT
TZOFFSETFROM:+0200
TZOFFSETTO:+0300
TZNAME:EEST
DTSTART:20230326T010000
END:DAYLIGHT
BEGIN:STANDARD
TZOFFSETFROM:+0300
TZOFFSETTO:+0200
TZNAME:EET
DTSTART:20231029T010000
END:STANDARD
BEGIN:DAYLIGHT
TZOFFSETFROM:+0200
TZOFFSETTO:+0300
TZNAME:EEST
DTSTART:20240331T010000
END:DAYLIGHT
BEGIN:STANDARD
TZOFFSETFROM:+0300
TZOFFSETTO:+0200
TZNAME:EET
DTSTART:20241027T010000
END:STANDARD
BEGIN:DAYLIGHT
TZOFFSETFROM:+0200
TZOFFSETTO:+0300
TZNAME:EEST
DTSTART:20250330T010000
END:DAYLIGHT
BEGIN:STANDARD
TZOFFSETFROM:+0300
TZOFFSETTO:+0200
TZNAME:EET
DTSTART:20251026T010000
END:STANDARD
BEGIN:DAYLIGHT
TZOFFSETFROM:+0200
TZOFFSETTO:+0300
TZNAME:EEST
DTSTART:20260329T010000
END:DAYLIGHT
BEGIN:STANDARD
TZOFFSETFROM:+0300
TZOFFSETTO:+0200
TZNAME:EET
DTSTART:20261025T010000
END:STANDARD
END:VTIMEZONE
BEGIN:VEVENT
DTSTART;VALUE=DATE:20240511
DTEND;VALUE=DATE:20240520
DTSTAMP:20260420T193931
CREATED:20240318T213911Z
LAST-MODIFIED:20240318T213911Z
UID:265191-1715385600-1716163199@roes.coop
SUMMARY:Unlocked
DESCRIPTION:
URL:https://roes.coop/mobility/unlocked/
LOCATION:Hollókő – Hungary\, Hungary
CATEGORIES:Erasmus+ Training Course
ATTACH;FMTTYPE=image/jpeg:https://roes.coop/wp-content/uploads/2024/03/Unlocked-1.jpg
END:VEVENT
BEGIN:VEVENT
DTSTART;VALUE=DATE:20240508
DTEND;VALUE=DATE:20240517
DTSTAMP:20260420T193931
CREATED:20240314T121735Z
LAST-MODIFIED:20240314T123948Z
UID:265168-1715126400-1715903999@roes.coop
SUMMARY:Queer Rural Identities II
DESCRIPTION:
URL:https://roes.coop/mobility/queer-rural-identities-ii/
LOCATION:Obon\, Teruel\, Spain\, Spain
CATEGORIES:Erasmus+ Youth Exchange
ATTACH;FMTTYPE=image/jpeg:https://roes.coop/wp-content/uploads/2024/03/Queer-Rural-Identities-II.jpg
END:VEVENT
BEGIN:VEVENT
DTSTART;VALUE=DATE:20240501
DTEND;VALUE=DATE:20240506
DTSTAMP:20260420T193931
CREATED:20240221T220435Z
LAST-MODIFIED:20240221T220435Z
UID:264940-1714521600-1714953599@roes.coop
SUMMARY:Flower Power
DESCRIPTION:
URL:https://roes.coop/mobility/flower-power/
LOCATION:Garaldea Ecofeminista\, Madrid\, Spain
CATEGORIES:Erasmus+ Training Course
ATTACH;FMTTYPE=image/jpeg:https://roes.coop/wp-content/uploads/2024/02/Flower-Power-2.jpg
END:VEVENT
BEGIN:VEVENT
DTSTART;VALUE=DATE:20240428
DTEND;VALUE=DATE:20240510
DTSTAMP:20260420T193931
CREATED:20240214T141107Z
LAST-MODIFIED:20240214T141107Z
UID:264678-1714262400-1715299199@roes.coop
SUMMARY:Groundbreakers
DESCRIPTION:
URL:https://roes.coop/mobility/groundbreakers/
LOCATION:Emmen\, the Netherlands
CATEGORIES:Erasmus+ Training Course
ATTACH;FMTTYPE=image/png:https://roes.coop/wp-content/uploads/2024/02/GROUNDBREAKERS.png
END:VEVENT
BEGIN:VEVENT
DTSTART;VALUE=DATE:20240427
DTEND;VALUE=DATE:20240507
DTSTAMP:20260420T193931
CREATED:20240226T224906Z
LAST-MODIFIED:20240226T224906Z
UID:264978-1714176000-1715039999@roes.coop
SUMMARY:Youth for Youth
DESCRIPTION:
URL:https://roes.coop/mobility/youth-for-youth/
LOCATION:Plovdid\, Bulgaria\, Bulgaria
CATEGORIES:Erasmus+ Youth Exchange
ATTACH;FMTTYPE=image/jpeg:https://roes.coop/wp-content/uploads/2024/02/Youth-for-Youth.jpg
END:VEVENT
BEGIN:VEVENT
DTSTART;VALUE=DATE:20240424
DTEND;VALUE=DATE:20240503
DTSTAMP:20260420T193932
CREATED:20240306T132035Z
LAST-MODIFIED:20240306T133613Z
UID:265122-1713916800-1714694399@roes.coop
SUMMARY:Food for Good club
DESCRIPTION:
URL:https://roes.coop/mobility/265122/
LOCATION:Nisi\, Raches\, Fthiotida\, Greece
CATEGORIES:Erasmus+ Training Course
ATTACH;FMTTYPE=image/png:https://roes.coop/wp-content/uploads/2024/03/Food-for-Good-Club-1.png
END:VEVENT
BEGIN:VEVENT
DTSTART;VALUE=DATE:20240422
DTEND;VALUE=DATE:20240501
DTSTAMP:20260420T193932
CREATED:20240313T145928Z
LAST-MODIFIED:20240314T150736Z
UID:265155-1713744000-1714521599@roes.coop
SUMMARY:Training for Trainers in Non-formal Education
DESCRIPTION:
URL:https://roes.coop/mobility/elnn-tot/
LOCATION:Brasov\, Romania\, Romania
CATEGORIES:Erasmus+ Training Course
ATTACH;FMTTYPE=image/png:https://roes.coop/wp-content/uploads/2024/03/ELNN-Training-For-Trainers-2.png
ORGANIZER;CN="Innovation Education Lab":MAILTO:hello@innoedulab.eu
END:VEVENT
BEGIN:VEVENT
DTSTART;VALUE=DATE:20240420
DTEND;VALUE=DATE:20240430
DTSTAMP:20260420T193932
CREATED:20240218T202747Z
LAST-MODIFIED:20240220T110409Z
UID:264932-1713571200-1714435199@roes.coop
SUMMARY:FlowFactor
DESCRIPTION:
URL:https://roes.coop/mobility/flowfactor/
LOCATION:Drusti\, Latvia\, Latvia
CATEGORIES:Erasmus+ Training Course
ATTACH;FMTTYPE=image/jpeg:https://roes.coop/wp-content/uploads/2024/02/FlowFactor.jpg
END:VEVENT
BEGIN:VEVENT
DTSTART;VALUE=DATE:20240411
DTEND;VALUE=DATE:20240412
DTSTAMP:20260420T193932
CREATED:20240411T224620Z
LAST-MODIFIED:20240411T224620Z
UID:265299-1712793600-1712879999@roes.coop
SUMMARY:See Beyond
DESCRIPTION:  \n 
URL:https://roes.coop/mobility/see-beyond/
LOCATION:Hollókő – Hungary\, Hungary
CATEGORIES:Erasmus+ Training Course
ATTACH;FMTTYPE=image/jpeg:https://roes.coop/wp-content/uploads/2024/04/See-Beyond-1.jpg
END:VEVENT
BEGIN:VEVENT
DTSTART;VALUE=DATE:20240411
DTEND;VALUE=DATE:20240412
DTSTAMP:20260420T193932
CREATED:20240411T190733Z
LAST-MODIFIED:20240411T190733Z
UID:265310-1712793600-1712879999@roes.coop
SUMMARY:Sharing Lives
DESCRIPTION:
URL:https://roes.coop/mobility/sharing-lives/
LOCATION:Santa Venera\, Malta\, Santa Venera\, Malta
CATEGORIES:Funded Volunteering
ATTACH;FMTTYPE=image/png:https://roes.coop/wp-content/uploads/2024/04/Sharing-Lives.png
ORGANIZER;CN="Agenzija Sapport":MAILTO:sharinglives.sapport@gov.mt
END:VEVENT
BEGIN:VEVENT
DTSTART;VALUE=DATE:20240407
DTEND;VALUE=DATE:20240420
DTSTAMP:20260420T193932
CREATED:20240229T114437Z
LAST-MODIFIED:20240229T114437Z
UID:265028-1712448000-1713571199@roes.coop
SUMMARY:Wild Path
DESCRIPTION:
URL:https://roes.coop/mobility/wild-path/
LOCATION:KulturHaus\, Germany
CATEGORIES:Erasmus+ Youth Exchange
ATTACH;FMTTYPE=image/jpeg:https://roes.coop/wp-content/uploads/2024/02/Wild-Path-2.jpg
END:VEVENT
BEGIN:VEVENT
DTSTART;VALUE=DATE:20240405
DTEND;VALUE=DATE:20240412
DTSTAMP:20260420T193932
CREATED:20240207T133808Z
LAST-MODIFIED:20240217T181648Z
UID:264629-1712275200-1712879999@roes.coop
SUMMARY:Let's Build Gender-Eco-Friendly Collectives
DESCRIPTION:
URL:https://roes.coop/mobility/lbg-e-fc/
LOCATION:Obon\, Teruel\, Spain\, Spain
CATEGORIES:Erasmus+ Training Course
ATTACH;FMTTYPE=image/jpeg:https://roes.coop/wp-content/uploads/2024/02/Lets-Build-Gender-Eco-Friendly-Collectives-1.jpg
END:VEVENT
BEGIN:VEVENT
DTSTART;VALUE=DATE:20240404
DTEND;VALUE=DATE:20240414
DTSTAMP:20260420T193932
CREATED:20240128T162455Z
LAST-MODIFIED:20240202T103854Z
UID:264504-1712188800-1713052799@roes.coop
SUMMARY:Changemaker 5.0
DESCRIPTION:
URL:https://roes.coop/mobility/changemaker-5-0/
LOCATION:Hollókő – Hungary\, Hungary
CATEGORIES:Erasmus+ Training Course
ATTACH;FMTTYPE=image/jpeg:https://roes.coop/wp-content/uploads/2024/01/Changemaker-5.0-1.jpg
END:VEVENT
BEGIN:VEVENT
DTSTART;VALUE=DATE:20240317
DTEND;VALUE=DATE:20240326
DTSTAMP:20260420T193932
CREATED:20240129T112950Z
LAST-MODIFIED:20240129T113146Z
UID:264459-1710633600-1711411199@roes.coop
SUMMARY:Sustainers
DESCRIPTION:
URL:https://roes.coop/mobility/sustainers/
LOCATION:Hollókő – Hungary\, Hungary
CATEGORIES:Erasmus+ Training Course
ATTACH;FMTTYPE=image/jpeg:https://roes.coop/wp-content/uploads/2024/01/Sustainers.jpg
END:VEVENT
BEGIN:VEVENT
DTSTART;VALUE=DATE:20240313
DTEND;VALUE=DATE:20240323
DTSTAMP:20260420T193932
CREATED:20240125T190540Z
LAST-MODIFIED:20240711T053213Z
UID:264489-1710288000-1711151999@roes.coop
SUMMARY:The Social Directors
DESCRIPTION:
URL:https://roes.coop/mobility/thesocialdirectors_tc/
LOCATION:Sicily\, Italy
CATEGORIES:Erasmus+ Training Course
ATTACH;FMTTYPE=image/jpeg:https://roes.coop/wp-content/uploads/2024/01/tnt.jpg
END:VEVENT
BEGIN:VEVENT
DTSTART;TZID=Europe/Athens:20240305T080000
DTEND;TZID=Europe/Athens:20240305T170000
DTSTAMP:20260420T193932
CREATED:20240305T103120Z
LAST-MODIFIED:20240305T103120Z
UID:265101-1709625600-1709658000@roes.coop
SUMMARY:Lead to Succeed TC
DESCRIPTION:
URL:https://roes.coop/mobility/lead-to-succeed-tc/
LOCATION:Alhaurín De La Torre\, Spain
CATEGORIES:Erasmus+ Training Course
ATTACH;FMTTYPE=image/png:https://roes.coop/wp-content/uploads/2024/03/Lead-to-succeed-Tc.png
END:VEVENT
BEGIN:VEVENT
DTSTART;VALUE=DATE:20240305
DTEND;VALUE=DATE:20250201
DTSTAMP:20260420T193932
CREATED:20240305T140302Z
LAST-MODIFIED:20240305T140302Z
UID:265112-1709596800-1738367999@roes.coop
SUMMARY:Youthful Europe Action
DESCRIPTION:
URL:https://roes.coop/mobility/youthful-europe-action/
LOCATION:Rosà\, Italy\, Rosà\, Italy
CATEGORIES:Funded Volunteering
ATTACH;FMTTYPE=image/png:https://roes.coop/wp-content/uploads/2024/03/Youthful-Europe-Action.png
END:VEVENT
BEGIN:VEVENT
DTSTART;VALUE=DATE:20240304
DTEND;VALUE=DATE:20240312
DTSTAMP:20260420T193932
CREATED:20240123T131750Z
LAST-MODIFIED:20240123T133123Z
UID:264454-1709510400-1710201599@roes.coop
SUMMARY:Keys for Change Reloaded
DESCRIPTION:
URL:https://roes.coop/mobility/keys-for-change-reloaded-2/
LOCATION:Hollókő – Hungary\, Hungary
CATEGORIES:Erasmus+ Training Course
ATTACH;FMTTYPE=image/jpeg:https://roes.coop/wp-content/uploads/2024/01/KFC-2.jpg
END:VEVENT
BEGIN:VEVENT
DTSTART;VALUE=DATE:20240304
DTEND;VALUE=DATE:20240316
DTSTAMP:20260420T193932
CREATED:20240206T125728Z
LAST-MODIFIED:20240206T130115Z
UID:264626-1709510400-1710547199@roes.coop
SUMMARY:Winter Refresher Extra
DESCRIPTION:
URL:https://roes.coop/mobility/winter-refresher-extra/
LOCATION:Sovata\, Romania\, Romania
CATEGORIES:Erasmus+ Training Course
ATTACH;FMTTYPE=image/jpeg:https://roes.coop/wp-content/uploads/2024/02/WINTER-REFRESHER-extra-1.jpg
END:VEVENT
BEGIN:VEVENT
DTSTART;VALUE=DATE:20240225
DTEND;VALUE=DATE:20240305
DTSTAMP:20260420T193932
CREATED:20240117T125442Z
LAST-MODIFIED:20240118T081813Z
UID:264424-1708819200-1709596799@roes.coop
SUMMARY:Youth Space - Safe Space
DESCRIPTION:
URL:https://roes.coop/mobility/youth-space-safe-space/
LOCATION:Libchavy\, Czechia\, Czech Republic
CATEGORIES:Erasmus+ Training Course
ATTACH;FMTTYPE=image/jpeg:https://roes.coop/wp-content/uploads/2024/01/Youth-Space-Safe-Space.jpg
END:VEVENT
BEGIN:VEVENT
DTSTART;VALUE=DATE:20240220
DTEND;VALUE=DATE:20240229
DTSTAMP:20260420T193932
CREATED:20240203T220510Z
LAST-MODIFIED:20240206T130236Z
UID:264612-1708387200-1709164799@roes.coop
SUMMARY:Training on Hard Skills
DESCRIPTION:
URL:https://roes.coop/mobility/training-on-hard-skills/
LOCATION:Tetovo\, North Macedonia
CATEGORIES:Erasmus+ Training Course
ATTACH;FMTTYPE=image/jpeg:https://roes.coop/wp-content/uploads/2024/02/TRAINING-ON-HARD-SKILLS.jpg
END:VEVENT
BEGIN:VEVENT
DTSTART;VALUE=DATE:20240216
DTEND;VALUE=DATE:20240219
DTSTAMP:20260420T193932
CREATED:20240109T194646Z
LAST-MODIFIED:20240109T195756Z
UID:264347-1708041600-1708300799@roes.coop
SUMMARY:It Starts With Me!
DESCRIPTION:
URL:https://roes.coop/mobility/it-starts-with-me/
LOCATION:The Ranch\, Korinthos\, Sofiko\, 20004\, Greece
CATEGORIES:Erasmus+ Training Course
ATTACH;FMTTYPE=image/png:https://roes.coop/wp-content/uploads/2024/01/It-Starts-With-Me1.png
ORGANIZER;CN="Roes Cooperativa":MAILTO:123456@gmail.kom
END:VEVENT
BEGIN:VEVENT
DTSTART;VALUE=DATE:20240214
DTEND;VALUE=DATE:20240223
DTSTAMP:20260420T193932
CREATED:20240119T105015Z
LAST-MODIFIED:20240122T232225Z
UID:264444-1707868800-1708646399@roes.coop
SUMMARY:Desinged for Life
DESCRIPTION:
URL:https://roes.coop/mobility/desinged-for-life/
LOCATION:Hollókő – Hungary\, Hungary
CATEGORIES:Erasmus+ Training Course
ATTACH;FMTTYPE=image/jpeg:https://roes.coop/wp-content/uploads/2024/01/Designed-for-life.jpg
END:VEVENT
BEGIN:VEVENT
DTSTART;VALUE=DATE:20240214
DTEND;VALUE=DATE:20240224
DTSTAMP:20260420T193932
CREATED:20231122T121553Z
LAST-MODIFIED:20231122T130336Z
UID:264196-1707868800-1708732799@roes.coop
SUMMARY:Nonviolent Communication through Puppet Theatre
DESCRIPTION:
URL:https://roes.coop/mobility/nvctp/
LOCATION:Lukovit\, Bulgaria\, Bulgaria
CATEGORIES:Erasmus+ Training Course
ATTACH;FMTTYPE=image/jpeg:https://roes.coop/wp-content/uploads/2023/11/NVCTP-2.jpg
END:VEVENT
BEGIN:VEVENT
DTSTART;VALUE=DATE:20240210
DTEND;VALUE=DATE:20240220
DTSTAMP:20260420T193932
CREATED:20240114T000842Z
LAST-MODIFIED:20240114T000842Z
UID:264361-1707523200-1708387199@roes.coop
SUMMARY:Youth GreeIN - Sustainable Educational Ideas
DESCRIPTION:
URL:https://roes.coop/mobility/youth-greein/
LOCATION:Casa-famiglia San Francesco – Castagnetoli (MS)\, Castagnetoli\, Italy
CATEGORIES:Erasmus+ Youth Exchange
ATTACH;FMTTYPE=image/png:https://roes.coop/wp-content/uploads/2024/01/Youth-GreeIN-2.png
END:VEVENT
BEGIN:VEVENT
DTSTART;VALUE=DATE:20240207
DTEND;VALUE=DATE:20240214
DTSTAMP:20260420T193932
CREATED:20240104T173530Z
LAST-MODIFIED:20240104T174915Z
UID:264331-1707264000-1707868799@roes.coop
SUMMARY:Stories Act
DESCRIPTION:
URL:https://roes.coop/mobility/stories-act/
LOCATION:Ommen\, The Netherlands
CATEGORIES:Erasmus+ Training Course
ATTACH;FMTTYPE=image/png:https://roes.coop/wp-content/uploads/2024/01/Stories-Act-TC.png
END:VEVENT
BEGIN:VEVENT
DTSTART;VALUE=DATE:20240111
DTEND;VALUE=DATE:20240121
DTSTAMP:20260420T193932
CREATED:20231107T135104Z
LAST-MODIFIED:20231109T104527Z
UID:264110-1704931200-1705795199@roes.coop
SUMMARY:Mind-U
DESCRIPTION:
URL:https://roes.coop/mobility/mind-u/
LOCATION:Mollina\, Spain\, Mollina\, Spain
CATEGORIES:Erasmus+ Training Course
ATTACH;FMTTYPE=image/jpeg:https://roes.coop/wp-content/uploads/2023/11/Mind-U-1.jpg
END:VEVENT
BEGIN:VEVENT
DTSTART;VALUE=DATE:20240105
DTEND;VALUE=DATE:20240114
DTSTAMP:20260420T193932
CREATED:20231107T102938Z
LAST-MODIFIED:20231109T104448Z
UID:264097-1704412800-1705190399@roes.coop
SUMMARY:From dots to lines
DESCRIPTION:
URL:https://roes.coop/mobility/from-dots-to-lines/
LOCATION:Casa-famiglia San Francesco – Castagnetoli (MS)\, Castagnetoli\, Italy
CATEGORIES:Erasmus+ Training Course
ATTACH;FMTTYPE=image/jpeg:https://roes.coop/wp-content/uploads/2023/11/From-dots-to-lines.jpg
END:VEVENT
BEGIN:VEVENT
DTSTART;VALUE=DATE:20231206
DTEND;VALUE=DATE:20231215
DTSTAMP:20260420T193932
CREATED:20231007T154838Z
LAST-MODIFIED:20240717T180910Z
UID:264052-1701820800-1702598399@roes.coop
SUMMARY:Be Aware
DESCRIPTION:
URL:https://roes.coop/mobility/be-aware/
LOCATION:Lecce\, Italy\, Italy
CATEGORIES:Erasmus+ Youth Exchange
ATTACH;FMTTYPE=image/jpeg:https://roes.coop/wp-content/uploads/2023/10/Be-Aware.jpg
END:VEVENT
BEGIN:VEVENT
DTSTART;VALUE=DATE:20231202
DTEND;VALUE=DATE:20231209
DTSTAMP:20260420T193932
CREATED:20231018T231731Z
LAST-MODIFIED:20231018T231731Z
UID:264075-1701475200-1702079999@roes.coop
SUMMARY:Stories Untold
DESCRIPTION:
URL:https://roes.coop/mobility/stories-untold/
LOCATION:Pervolia\, Cyprus\, Cyprus
CATEGORIES:Erasmus+ Youth Exchange
ATTACH;FMTTYPE=image/jpeg:https://roes.coop/wp-content/uploads/2023/10/Stories-Untold-1.jpg
END:VEVENT
END:VCALENDAR