BEGIN:VCALENDAR
VERSION:2.0
PRODID:-//Roes Cooperativa - ECPv6.15.13//NONSGML v1.0//EN
CALSCALE:GREGORIAN
METHOD:PUBLISH
X-WR-CALNAME:Roes Cooperativa
X-ORIGINAL-URL:https://roes.coop
X-WR-CALDESC:Events for Roes Cooperativa
REFRESH-INTERVAL;VALUE=DURATION:PT1H
X-Robots-Tag:noindex
X-PUBLISHED-TTL:PT1H
BEGIN:VTIMEZONE
TZID:Europe/Athens
BEGIN:DAYLIGHT
TZOFFSETFROM:+0200
TZOFFSETTO:+0300
TZNAME:EEST
DTSTART:20210328T010000
END:DAYLIGHT
BEGIN:STANDARD
TZOFFSETFROM:+0300
TZOFFSETTO:+0200
TZNAME:EET
DTSTART:20211031T010000
END:STANDARD
BEGIN:DAYLIGHT
TZOFFSETFROM:+0200
TZOFFSETTO:+0300
TZNAME:EEST
DTSTART:20220327T010000
END:DAYLIGHT
BEGIN:STANDARD
TZOFFSETFROM:+0300
TZOFFSETTO:+0200
TZNAME:EET
DTSTART:20221030T010000
END:STANDARD
BEGIN:DAYLIGHT
TZOFFSETFROM:+0200
TZOFFSETTO:+0300
TZNAME:EEST
DTSTART:20230326T010000
END:DAYLIGHT
BEGIN:STANDARD
TZOFFSETFROM:+0300
TZOFFSETTO:+0200
TZNAME:EET
DTSTART:20231029T010000
END:STANDARD
BEGIN:DAYLIGHT
TZOFFSETFROM:+0200
TZOFFSETTO:+0300
TZNAME:EEST
DTSTART:20240331T010000
END:DAYLIGHT
BEGIN:STANDARD
TZOFFSETFROM:+0300
TZOFFSETTO:+0200
TZNAME:EET
DTSTART:20241027T010000
END:STANDARD
END:VTIMEZONE
BEGIN:VEVENT
DTSTART;VALUE=DATE:20230301
DTEND;VALUE=DATE:20231202
DTSTAMP:20260422T001209
CREATED:20230427T084433Z
LAST-MODIFIED:20240717T181357Z
UID:262705-1677628800-1701475199@roes.coop
SUMMARY:L.E.A.D.
DESCRIPTION:
URL:https://roes.coop/mobility/l-e-a-d/
LOCATION:Sofia\, Bulgaria\, Bulgaria
CATEGORIES:Funded Volunteering
ATTACH;FMTTYPE=image/jpeg:https://roes.coop/wp-content/uploads/2023/04/lead.jpeg
END:VEVENT
BEGIN:VEVENT
DTSTART;VALUE=DATE:20230201
DTEND;VALUE=DATE:20230202
DTSTAMP:20260422T001209
CREATED:20230427T085238Z
LAST-MODIFIED:20230824T162624Z
UID:262635-1675209600-1675295999@roes.coop
SUMMARY:Volunteer with Associacio Alba
DESCRIPTION:
URL:https://roes.coop/mobility/volunteer-with-associacio-alba/
LOCATION:Terrega\, Spain
ATTACH;FMTTYPE=image/jpeg:https://roes.coop/wp-content/uploads/2023/04/alba.jpeg
END:VEVENT
BEGIN:VEVENT
DTSTART;VALUE=DATE:20221028
DTEND;VALUE=DATE:20221107
DTSTAMP:20260422T001209
CREATED:20220913T121119Z
LAST-MODIFIED:20230824T162611Z
UID:1898-1666915200-1667779199@roes.coop
SUMMARY:Do_cument It Yourself
DESCRIPTION:Testimonials\n			\n			\n				\n				\n				\n				\n			\n				\n				\n				\n				\n				\n				\n				\n				\n				\n				\n				\n				\n				\n					\n                    \n				\n				\n				\n				\n				\n				\n				\n					\n                 \n                    \n                    \n                 \n			\n				\n			\n				\n				\n				\n				\n				\n				\n				\n					\n                 \n                    \n                    \n                 \n			\n				\n			\n				\n				\n				\n				\n				\n				\n				\n					\n                 \n                    \n                    \n                 \n			\n				\n			\n				\n				\n				\n				\n				\n				\n				\n					\n                 \n                    \n                    \n                 \n			\n				\n			\n                \n				\n			\n			\n				\n				\n				\n				\n			\n				\n				\n			\n				\n				\n				\n				\n				\n				\n				\n				\n				\n				\n				\n				\n				\n				\n				\n				\n				\n				See For Yourself
URL:https://roes.coop/mobility/diy/
LOCATION:Berlin\, Berlin\, Germany
CATEGORIES:Erasmus+ Training Course
ATTACH;FMTTYPE=image/jpeg:https://roes.coop/wp-content/uploads/2022/09/300791460_5408672039199412_2813425438438803019_n.jpeg
END:VEVENT
END:VCALENDAR