BEGIN:VCALENDAR
VERSION:2.0
PRODID:-//Roes Cooperativa - ECPv6.15.13//NONSGML v1.0//EN
CALSCALE:GREGORIAN
METHOD:PUBLISH
X-ORIGINAL-URL:https://roes.coop
X-WR-CALDESC:Events for Roes Cooperativa
REFRESH-INTERVAL;VALUE=DURATION:PT1H
X-Robots-Tag:noindex
X-PUBLISHED-TTL:PT1H
BEGIN:VTIMEZONE
TZID:Europe/Athens
BEGIN:DAYLIGHT
TZOFFSETFROM:+0200
TZOFFSETTO:+0300
TZNAME:EEST
DTSTART:20240331T010000
END:DAYLIGHT
BEGIN:STANDARD
TZOFFSETFROM:+0300
TZOFFSETTO:+0200
TZNAME:EET
DTSTART:20241027T010000
END:STANDARD
BEGIN:DAYLIGHT
TZOFFSETFROM:+0200
TZOFFSETTO:+0300
TZNAME:EEST
DTSTART:20250330T010000
END:DAYLIGHT
BEGIN:STANDARD
TZOFFSETFROM:+0300
TZOFFSETTO:+0200
TZNAME:EET
DTSTART:20251026T010000
END:STANDARD
BEGIN:DAYLIGHT
TZOFFSETFROM:+0200
TZOFFSETTO:+0300
TZNAME:EEST
DTSTART:20260329T010000
END:DAYLIGHT
BEGIN:STANDARD
TZOFFSETFROM:+0300
TZOFFSETTO:+0200
TZNAME:EET
DTSTART:20261025T010000
END:STANDARD
BEGIN:DAYLIGHT
TZOFFSETFROM:+0200
TZOFFSETTO:+0300
TZNAME:EEST
DTSTART:20270328T010000
END:DAYLIGHT
BEGIN:STANDARD
TZOFFSETFROM:+0300
TZOFFSETTO:+0200
TZNAME:EET
DTSTART:20271031T010000
END:STANDARD
END:VTIMEZONE
BEGIN:VEVENT
DTSTART;VALUE=DATE:20250101
DTEND;VALUE=DATE:20251201
DTSTAMP:20260420T202519
CREATED:20241122T124010Z
LAST-MODIFIED:20241122T124010Z
UID:266100-1735689600-1764547199@roes.coop
SUMMARY:Volunteer in La Palma
DESCRIPTION:
URL:https://roes.coop/mobility/volunteer-in-la-palma/
LOCATION:Santa Cruz de la Palma\, Spain
CATEGORIES:Funded Volunteering
ATTACH;FMTTYPE=image/png:https://roes.coop/wp-content/uploads/2024/11/Spain.png
END:VEVENT
BEGIN:VEVENT
DTSTART;VALUE=DATE:20250101
DTEND;VALUE=DATE:20251001
DTSTAMP:20260420T202519
CREATED:20241214T080031Z
LAST-MODIFIED:20241212T134036Z
UID:266530-1735689600-1759276799@roes.coop
SUMMARY:Volunteering in Goleniów
DESCRIPTION:
URL:https://roes.coop/mobility/volunteering-in-goleniow/
LOCATION:Goleniów\, Poland
ATTACH;FMTTYPE=image/png:https://roes.coop/wp-content/uploads/2024/12/Goleniow.png
END:VEVENT
BEGIN:VEVENT
DTSTART;VALUE=DATE:20250101
DTEND;VALUE=DATE:20251001
DTSTAMP:20260420T202519
CREATED:20241221T080016Z
LAST-MODIFIED:20241227T112901Z
UID:266543-1735689600-1759276799@roes.coop
SUMMARY:Montessori School Volunteering
DESCRIPTION:
URL:https://roes.coop/mobility/montessori-school-volunteering/
LOCATION:Nedvědice\, Czech Republic
CATEGORIES:Funded Volunteering
ATTACH;FMTTYPE=image/png:https://roes.coop/wp-content/uploads/2024/12/Nedvedice.png
END:VEVENT
BEGIN:VEVENT
DTSTART;VALUE=DATE:20250201
DTEND;VALUE=DATE:20251101
DTSTAMP:20260420T202519
CREATED:20241217T090026Z
LAST-MODIFIED:20241216T143109Z
UID:266535-1738368000-1761955199@roes.coop
SUMMARY:Volunteering in Family Forest Club
DESCRIPTION:
URL:https://roes.coop/mobility/volunteering-in-family-forest-club/
LOCATION:Lomnička\, Czech Republic\, Czech Republic
CATEGORIES:Funded Volunteering
ATTACH;FMTTYPE=image/png:https://roes.coop/wp-content/uploads/2024/12/Lomnicka.png
END:VEVENT
BEGIN:VEVENT
DTSTART;VALUE=DATE:20250203
DTEND;VALUE=DATE:20251201
DTSTAMP:20260420T202519
CREATED:20241207T140004Z
LAST-MODIFIED:20241204T143140Z
UID:266147-1738540800-1764547199@roes.coop
SUMMARY:ESC 2025 in Mataró
DESCRIPTION:
URL:https://roes.coop/mobility/esc-2025-in-mataro/
LOCATION:Mataró\, Spain\, Spain
CATEGORIES:Funded Volunteering
ATTACH;FMTTYPE=image/png:https://roes.coop/wp-content/uploads/2024/11/ESC-2025-in-Mataro.png
END:VEVENT
BEGIN:VEVENT
DTSTART;VALUE=DATE:20250327
DTEND;VALUE=DATE:20260328
DTSTAMP:20260420T202519
CREATED:20241205T090039Z
LAST-MODIFIED:20241204T145255Z
UID:266094-1743033600-1774655999@roes.coop
SUMMARY:CARE
DESCRIPTION:
URL:https://roes.coop/mobility/care/
LOCATION:Emmen\, the Netherlands
CATEGORIES:Funded Volunteering
ATTACH;FMTTYPE=image/png:https://roes.coop/wp-content/uploads/2024/12/CARE.png
END:VEVENT
BEGIN:VEVENT
DTSTART;VALUE=DATE:20250401
DTEND;VALUE=DATE:20260201
DTSTAMP:20260420T202519
CREATED:20250109T090030Z
LAST-MODIFIED:20250109T100724Z
UID:266556-1743465600-1769903999@roes.coop
SUMMARY:LEARN-ENGAGE-ACT-DEVELOP
DESCRIPTION:
URL:https://roes.coop/mobility/learn-engage-act-develop/
LOCATION:Sofia\, Bulgaria\, Bulgaria
CATEGORIES:Funded Volunteering
ATTACH;FMTTYPE=image/png:https://roes.coop/wp-content/uploads/2025/01/Lead.png
END:VEVENT
BEGIN:VEVENT
DTSTART;VALUE=DATE:20250501
DTEND;VALUE=DATE:20251001
DTSTAMP:20260420T202519
CREATED:20250226T100917Z
LAST-MODIFIED:20250226T101658Z
UID:266702-1746057600-1759276799@roes.coop
SUMMARY:Volunteering with NaturKultur and KulturHaus
DESCRIPTION:
URL:https://roes.coop/mobility/volunteering-with-naturkultur-and-kulturhaus/
LOCATION:KulturHaus\, Germany
CATEGORIES:Funded Volunteering
ATTACH;FMTTYPE=image/png:https://roes.coop/wp-content/uploads/2025/02/Bremen-2.0-Germany.png
END:VEVENT
BEGIN:VEVENT
DTSTART;VALUE=DATE:20250501
DTEND;VALUE=DATE:20260201
DTSTAMP:20260420T202519
CREATED:20250319T085231Z
LAST-MODIFIED:20250319T085231Z
UID:266743-1746057600-1769903999@roes.coop
SUMMARY:German-French Day Care Centre "Kita am Haydnplatz"
DESCRIPTION:
URL:https://roes.coop/mobility/german-french-day-care-centre-kita-am-haydnplatz/
LOCATION:Kita am Haydnplatz\, Karlsruhe\, Germany
CATEGORIES:Funded Volunteering
ATTACH;FMTTYPE=image/jpeg:https://roes.coop/wp-content/uploads/2025/03/Kita-am-Haydnplatz.jpg
END:VEVENT
BEGIN:VEVENT
DTSTART;VALUE=DATE:20250501
DTEND;VALUE=DATE:20260301
DTSTAMP:20260420T202519
CREATED:20250403T122451Z
LAST-MODIFIED:20250403T122451Z
UID:266767-1746057600-1772323199@roes.coop
SUMMARY:Kreisjugendwerk AWO Karlsruhe
DESCRIPTION:
URL:https://roes.coop/mobility/kreisjugendwerk-awo-karlsruhe/
LOCATION:Karlsruhe\, Germany\, Germany
CATEGORIES:Funded Volunteering
ATTACH;FMTTYPE=image/jpeg:https://roes.coop/wp-content/uploads/2025/04/Kita-am-Haydnplatz-2.jpg
END:VEVENT
BEGIN:VEVENT
DTSTART;VALUE=DATE:20250602
DTEND;VALUE=DATE:20260502
DTSTAMP:20260420T202519
CREATED:20250219T133601Z
LAST-MODIFIED:20250219T133601Z
UID:266673-1748822400-1777679999@roes.coop
SUMMARY:Youth Work Volunteering
DESCRIPTION:
URL:https://roes.coop/mobility/youth-work-volunteering/
LOCATION:Karlsruhe\, Germany\, Germany
CATEGORIES:Funded Volunteering
ATTACH;FMTTYPE=image/png:https://roes.coop/wp-content/uploads/2025/02/Germany.png
END:VEVENT
BEGIN:VEVENT
DTSTART;VALUE=DATE:20250701
DTEND;VALUE=DATE:20260901
DTSTAMP:20260420T202519
CREATED:20250122T113847Z
LAST-MODIFIED:20250122T113847Z
UID:266581-1751328000-1788220799@roes.coop
SUMMARY:Ambassadors For Europe 2025-2026
DESCRIPTION:
URL:https://roes.coop/mobility/ambassadors-for-europe-2025-2026/
LOCATION:Eurowerkstatt Jena e. V.
CATEGORIES:Funded Volunteering
ATTACH;FMTTYPE=image/jpeg:https://roes.coop/wp-content/uploads/2025/01/Eurowerkstatt.jpg
END:VEVENT
BEGIN:VEVENT
DTSTART;VALUE=DATE:20250801
DTEND;VALUE=DATE:20260201
DTSTAMP:20260420T202519
CREATED:20241219T130000Z
LAST-MODIFIED:20241218T123925Z
UID:266540-1754006400-1769903999@roes.coop
SUMMARY:Volunteering in Free Democratic School
DESCRIPTION:
URL:https://roes.coop/mobility/volunteering-in-free-democratic-school/
LOCATION:Předklášteří\, Czech Republic
CATEGORIES:Funded Volunteering
ATTACH;FMTTYPE=image/png:https://roes.coop/wp-content/uploads/2024/12/Predklasteri-.png
END:VEVENT
BEGIN:VEVENT
DTSTART;VALUE=DATE:20250830
DTEND;VALUE=DATE:20260831
DTSTAMP:20260420T202519
CREATED:20250131T110716Z
LAST-MODIFIED:20250207T132431Z
UID:266624-1756512000-1788134399@roes.coop
SUMMARY:Volunteer with ijgd in Berlin
DESCRIPTION:
URL:https://roes.coop/mobility/266624/
LOCATION:Berlin\, Germany
CATEGORIES:Funded Volunteering
ATTACH;FMTTYPE=image/png:https://roes.coop/wp-content/uploads/2025/01/ESC-ijgd-Berlin.png
END:VEVENT
BEGIN:VEVENT
DTSTART;VALUE=DATE:20250923
DTEND;VALUE=DATE:20250930
DTSTAMP:20260420T202519
CREATED:20250526T085932Z
LAST-MODIFIED:20250831T174230Z
UID:266886-1758585600-1759190399@roes.coop
SUMMARY:Unlock your Potential
DESCRIPTION:
URL:https://roes.coop/mobility/unlock-your-potential/
LOCATION:Leipzig\, Germany\, Germany
CATEGORIES:Erasmus+ Youth Exchange
ATTACH;FMTTYPE=image/jpeg:https://roes.coop/wp-content/uploads/2025/05/Unlock-your-Potential.jpg
END:VEVENT
BEGIN:VEVENT
DTSTART;VALUE=DATE:20251001
DTEND;VALUE=DATE:20251002
DTSTAMP:20260420T202519
CREATED:20250624T092821Z
LAST-MODIFIED:20250624T092821Z
UID:266977-1759276800-1759363199@roes.coop
SUMMARY:Kreisjugendwerk AWO Karlsruhe
DESCRIPTION:
URL:https://roes.coop/mobility/kreisjugendwerk-awo/
LOCATION:Karlsruhe\, Germany\, Germany
CATEGORIES:Funded Volunteering
ATTACH;FMTTYPE=image/jpeg:https://roes.coop/wp-content/uploads/2025/06/Kreisjugendwerk-AWO.jpg
END:VEVENT
BEGIN:VEVENT
DTSTART;VALUE=DATE:20251001
DTEND;VALUE=DATE:20251002
DTSTAMP:20260420T202519
CREATED:20250902T095426Z
LAST-MODIFIED:20250902T095426Z
UID:267146-1759276800-1759363199@roes.coop
SUMMARY:Parco Culturale Alta Langa
DESCRIPTION:
URL:https://roes.coop/mobility/parco-culturale-alta-langa/
LOCATION:Monesiglio\, Italy
CATEGORIES:Funded Volunteering
ATTACH;FMTTYPE=image/jpeg:https://roes.coop/wp-content/uploads/2025/09/Parco-Culturale-Italy.jpg
END:VEVENT
BEGIN:VEVENT
DTSTART;VALUE=DATE:20251001
DTEND;VALUE=DATE:20251002
DTSTAMP:20260420T202519
CREATED:20250911T122622Z
LAST-MODIFIED:20250911T122622Z
UID:267159-1759276800-1759363199@roes.coop
SUMMARY:Kreisjugendwerk AWO
DESCRIPTION:
URL:https://roes.coop/mobility/kreisjugendwerk-der-awo/
LOCATION:Karlsruhe\, Germany\, Germany
CATEGORIES:Funded Volunteering
ATTACH;FMTTYPE=image/jpeg:https://roes.coop/wp-content/uploads/2025/09/Kreisjugendwerk-AWO-2.jpg
END:VEVENT
BEGIN:VEVENT
DTSTART;VALUE=DATE:20251001
DTEND;VALUE=DATE:20260902
DTSTAMP:20260420T202519
CREATED:20250922T102850Z
LAST-MODIFIED:20250922T102850Z
UID:267169-1759276800-1788307199@roes.coop
SUMMARY:Wild Vibes
DESCRIPTION:
URL:https://roes.coop/mobility/wild-vibes/
LOCATION:Mrachenik\, Bulgaria\, Bulgaria
CATEGORIES:Funded Volunteering
ATTACH;FMTTYPE=image/jpeg:https://roes.coop/wp-content/uploads/2025/09/Wild-Lives-Bulgaria.jpg
END:VEVENT
BEGIN:VEVENT
DTSTART;VALUE=DATE:20251001
DTEND;VALUE=DATE:20260402
DTSTAMP:20260420T202519
CREATED:20250922T131257Z
LAST-MODIFIED:20250922T132122Z
UID:267172-1759276800-1775087999@roes.coop
SUMMARY:Rural Future 2025 2.0
DESCRIPTION:
URL:https://roes.coop/mobility/rural-future-2025-2-0/
LOCATION:Mrachenik\, Bulgaria\, Bulgaria
CATEGORIES:Funded Volunteering
ATTACH;FMTTYPE=image/jpeg:https://roes.coop/wp-content/uploads/2025/09/Template-1.jpg
END:VEVENT
BEGIN:VEVENT
DTSTART;VALUE=DATE:20251001
DTEND;VALUE=DATE:20260302
DTSTAMP:20260420T202519
CREATED:20251007T230430Z
LAST-MODIFIED:20251007T230430Z
UID:267216-1759276800-1772409599@roes.coop
SUMMARY:Sansusī Volunteering Project
DESCRIPTION:
URL:https://roes.coop/mobility/sansusi-volunteering-project/
LOCATION:Aknīste\, Latvia\, Latvia
CATEGORIES:Funded Volunteering
ATTACH;FMTTYPE=image/jpeg:https://roes.coop/wp-content/uploads/2025/10/Sansusi.jpg
END:VEVENT
BEGIN:VEVENT
DTSTART;VALUE=DATE:20251001
DTEND;VALUE=DATE:20260402
DTSTAMP:20260420T202519
CREATED:20250611T103916Z
LAST-MODIFIED:20250922T125708Z
UID:266918-1759276800-1775087999@roes.coop
SUMMARY:Rural Future 2025
DESCRIPTION:
URL:https://roes.coop/mobility/rural-future-2025-01/
LOCATION:Mrachenik\, Bulgaria\, Bulgaria
CATEGORIES:Funded Volunteering
ATTACH;FMTTYPE=image/jpeg:https://roes.coop/wp-content/uploads/2025/06/Smokinya-Rular-Future-1.jpg
END:VEVENT
BEGIN:VEVENT
DTSTART;TZID=Europe/Athens:20251007T080000
DTEND;TZID=Europe/Athens:20251007T170000
DTSTAMP:20260420T202519
CREATED:20251007T134844Z
LAST-MODIFIED:20251014T140542Z
UID:267206-1759824000-1759856400@roes.coop
SUMMARY:Changemakers Toolbox 2025
DESCRIPTION:
URL:https://roes.coop/mobility/changemakers-toolbox-2025/
CATEGORIES:Erasmus+ Training Course
ATTACH;FMTTYPE=image/png:https://roes.coop/wp-content/uploads/2025/10/Changemakers-Toolbox-2025.png
END:VEVENT
BEGIN:VEVENT
DTSTART;TZID=Europe/Athens:20251009T080000
DTEND;TZID=Europe/Athens:20251009T170000
DTSTAMP:20260420T202519
CREATED:20251009T124518Z
LAST-MODIFIED:20251009T124639Z
UID:267220-1759996800-1760029200@roes.coop
SUMMARY:CHECKMATE ToT
DESCRIPTION:
URL:https://roes.coop/mobility/checkmate-tot/
CATEGORIES:Erasmus+ Training Course
ATTACH;FMTTYPE=image/jpeg:https://roes.coop/wp-content/uploads/2025/10/CHECKMATE-Training-of-trainers.jpg
END:VEVENT
BEGIN:VEVENT
DTSTART;TZID=Europe/Athens:20251014T080000
DTEND;TZID=Europe/Athens:20251014T170000
DTSTAMP:20260420T202519
CREATED:20251014T141823Z
LAST-MODIFIED:20251017T132439Z
UID:267226-1760428800-1760461200@roes.coop
SUMMARY:NextGen Leaders
DESCRIPTION:
URL:https://roes.coop/mobility/nextgen-leaders/
CATEGORIES:Erasmus+ Training Course
ATTACH;FMTTYPE=image/jpeg:https://roes.coop/wp-content/uploads/2025/10/Nextgen-Leaders.jpg
END:VEVENT
BEGIN:VEVENT
DTSTART;VALUE=DATE:20251015
DTEND;VALUE=DATE:20251016
DTSTAMP:20260420T202519
CREATED:20250904T090724Z
LAST-MODIFIED:20250904T090724Z
UID:267149-1760486400-1760572799@roes.coop
SUMMARY:Road to Participation
DESCRIPTION:
URL:https://roes.coop/mobility/road-to-participation/
LOCATION:Puente Genil\, Andalusia
CATEGORIES:Funded Volunteering
ATTACH;FMTTYPE=image/jpeg:https://roes.coop/wp-content/uploads/2025/09/Injuve-Andalusia.jpg
END:VEVENT
BEGIN:VEVENT
DTSTART;VALUE=DATE:20251016
DTEND;VALUE=DATE:20251024
DTSTAMP:20260420T202519
CREATED:20250826T121504Z
LAST-MODIFIED:20250831T174000Z
UID:267109-1760572800-1761263999@roes.coop
SUMMARY:Soulful Expression
DESCRIPTION:
URL:https://roes.coop/mobility/soulful-expression/
LOCATION:Lecce\, Italy\, Italy
CATEGORIES:Erasmus+ Youth Exchange
ATTACH;FMTTYPE=image/jpeg:https://roes.coop/wp-content/uploads/2025/08/Soulful-Expression.jpg
END:VEVENT
BEGIN:VEVENT
DTSTART;VALUE=DATE:20251101
DTEND;VALUE=DATE:20260421
DTSTAMP:20260420T202519
CREATED:20251031T170744Z
LAST-MODIFIED:20251031T170744Z
UID:267235-1761955200-1776729599@roes.coop
SUMMARY:A4ACTION Youth center
DESCRIPTION:
URL:https://roes.coop/mobility/a4action-youth-center/
LOCATION:Snagov\, Romania\, Snagov\, Romania
CATEGORIES:Funded Volunteering
ATTACH;FMTTYPE=image/jpeg:https://roes.coop/wp-content/uploads/2025/10/A4action.jpg
END:VEVENT
BEGIN:VEVENT
DTSTART;VALUE=DATE:20251109
DTEND;VALUE=DATE:20251116
DTSTAMP:20260420T202519
CREATED:20250924T205544Z
LAST-MODIFIED:20250924T205544Z
UID:267178-1762646400-1763251199@roes.coop
SUMMARY:Elements of Chaos
DESCRIPTION:
URL:https://roes.coop/mobility/elements-of-chaos-3/
LOCATION:Lozen\, Bulgaria\, Bulgaria
CATEGORIES:Erasmus+ Youth Exchange
ATTACH;FMTTYPE=image/jpeg:https://roes.coop/wp-content/uploads/2025/09/Elements-of-Chaos-vol3.jpg
END:VEVENT
BEGIN:VEVENT
DTSTART;TZID=Europe/Athens:20251230T080000
DTEND;TZID=Europe/Athens:20251230T170000
DTSTAMP:20260420T202519
CREATED:20251230T141838Z
LAST-MODIFIED:20251230T141838Z
UID:267304-1767081600-1767114000@roes.coop
SUMMARY:Authentic Man
DESCRIPTION:
URL:https://roes.coop/mobility/authentic-man/
CATEGORIES:Erasmus+ Training Course
ATTACH;FMTTYPE=image/jpeg:https://roes.coop/wp-content/uploads/2025/12/Authentic-Man-Sovata.jpg
END:VEVENT
END:VCALENDAR