BEGIN:VCALENDAR
VERSION:2.0
PRODID:-//Roes Cooperativa - ECPv6.15.13//NONSGML v1.0//EN
CALSCALE:GREGORIAN
METHOD:PUBLISH
X-WR-CALNAME:Roes Cooperativa
X-ORIGINAL-URL:https://roes.coop
X-WR-CALDESC:Events for Roes Cooperativa
REFRESH-INTERVAL;VALUE=DURATION:PT1H
X-Robots-Tag:noindex
X-PUBLISHED-TTL:PT1H
BEGIN:VTIMEZONE
TZID:Europe/Athens
BEGIN:DAYLIGHT
TZOFFSETFROM:+0200
TZOFFSETTO:+0300
TZNAME:EEST
DTSTART:20220327T010000
END:DAYLIGHT
BEGIN:STANDARD
TZOFFSETFROM:+0300
TZOFFSETTO:+0200
TZNAME:EET
DTSTART:20221030T010000
END:STANDARD
BEGIN:DAYLIGHT
TZOFFSETFROM:+0200
TZOFFSETTO:+0300
TZNAME:EEST
DTSTART:20230326T010000
END:DAYLIGHT
BEGIN:STANDARD
TZOFFSETFROM:+0300
TZOFFSETTO:+0200
TZNAME:EET
DTSTART:20231029T010000
END:STANDARD
BEGIN:DAYLIGHT
TZOFFSETFROM:+0200
TZOFFSETTO:+0300
TZNAME:EEST
DTSTART:20240331T010000
END:DAYLIGHT
BEGIN:STANDARD
TZOFFSETFROM:+0300
TZOFFSETTO:+0200
TZNAME:EET
DTSTART:20241027T010000
END:STANDARD
BEGIN:DAYLIGHT
TZOFFSETFROM:+0200
TZOFFSETTO:+0300
TZNAME:EEST
DTSTART:20250330T010000
END:DAYLIGHT
BEGIN:STANDARD
TZOFFSETFROM:+0300
TZOFFSETTO:+0200
TZNAME:EET
DTSTART:20251026T010000
END:STANDARD
BEGIN:DAYLIGHT
TZOFFSETFROM:+0200
TZOFFSETTO:+0300
TZNAME:EEST
DTSTART:20260329T010000
END:DAYLIGHT
BEGIN:STANDARD
TZOFFSETFROM:+0300
TZOFFSETTO:+0200
TZNAME:EET
DTSTART:20261025T010000
END:STANDARD
END:VTIMEZONE
BEGIN:VEVENT
DTSTART;VALUE=DATE:20230801
DTEND;VALUE=DATE:20240802
DTSTAMP:20260423T093452
CREATED:20230426T131904Z
LAST-MODIFIED:20230824T162411Z
UID:262648-1690848000-1722556799@roes.coop
SUMMARY:Kids In Action 10
DESCRIPTION:
URL:https://roes.coop/mobility/kids-in-action-10-united-in-solidarity/
LOCATION:Škofja Loka\, Slovenia
CATEGORIES:Funded Volunteering
ATTACH;FMTTYPE=image/jpeg:https://roes.coop/wp-content/uploads/2023/04/kids-in-action.jpeg
END:VEVENT
BEGIN:VEVENT
DTSTART;VALUE=DATE:20230801
DTEND;VALUE=DATE:20240802
DTSTAMP:20260423T093452
CREATED:20230426T132102Z
LAST-MODIFIED:20230824T162402Z
UID:262630-1690848000-1722556799@roes.coop
SUMMARY:Colibri Free Democratic School
DESCRIPTION:
URL:https://roes.coop/mobility/colibri-free-democratic-school/
LOCATION:Předklášteří\, Czech Republic
CATEGORIES:Funded Volunteering
ATTACH;FMTTYPE=image/jpeg:https://roes.coop/wp-content/uploads/2023/04/colibri.jpeg
END:VEVENT
BEGIN:VEVENT
DTSTART;VALUE=DATE:20230901
DTEND;VALUE=DATE:20240901
DTSTAMP:20260423T093452
CREATED:20230719T090718Z
LAST-MODIFIED:20230824T162331Z
UID:263615-1693526400-1725148799@roes.coop
SUMMARY:Voluntary Year in Monument Preservation and Care
DESCRIPTION:
URL:https://roes.coop/mobility/voluntary-year-in-monument-preservation-and-care/
LOCATION:Altdöbern\, Germany
CATEGORIES:Funded Volunteering
ATTACH;FMTTYPE=image/png:https://roes.coop/wp-content/uploads/2023/07/Romania-2-1.png
END:VEVENT
BEGIN:VEVENT
DTSTART;VALUE=DATE:20230901
DTEND;VALUE=DATE:20240802
DTSTAMP:20260423T093452
CREATED:20230719T115608Z
LAST-MODIFIED:20230824T162346Z
UID:263632-1693526400-1722556799@roes.coop
SUMMARY:Kids in Action 10 – United in Solidarity
DESCRIPTION:
URL:https://roes.coop/mobility/kids-in-action-10-united-in-solidarity-12-months-funded-volunteering-esc/
LOCATION:Škofja Loka\, Slovenia
CATEGORIES:Funded Volunteering
ATTACH;FMTTYPE=image/png:https://roes.coop/wp-content/uploads/2023/07/Familija.png
END:VEVENT
BEGIN:VEVENT
DTSTART;VALUE=DATE:20230901
DTEND;VALUE=DATE:20240802
DTSTAMP:20260423T093452
CREATED:20230801T121331Z
LAST-MODIFIED:20230824T162339Z
UID:263683-1693526400-1722556799@roes.coop
SUMMARY:ESC Opportunities in North East of France
DESCRIPTION:
URL:https://roes.coop/mobility/esc-opportunities-in-north-east-of-france/
LOCATION:Info Jeunes Grand Est\, France
CATEGORIES:Funded Volunteering
ATTACH;FMTTYPE=image/png:https://roes.coop/wp-content/uploads/2023/08/Familija-1.png
END:VEVENT
BEGIN:VEVENT
DTSTART;VALUE=DATE:20230911
DTEND;VALUE=DATE:20240911
DTSTAMP:20260423T093452
CREATED:20230809T104123Z
LAST-MODIFIED:20230824T162323Z
UID:263722-1694390400-1726012799@roes.coop
SUMMARY:Volunteer with INEX Slovakia  | 12 months funded volunteering (ESC)
DESCRIPTION:
URL:https://roes.coop/mobility/volunteer-with-inex-slovakia-12-months-funded-volunteering-esc/
LOCATION:Bratislava
CATEGORIES:Funded Volunteering
ATTACH;FMTTYPE=image/png:https://roes.coop/wp-content/uploads/2023/08/IJGD-6.png
END:VEVENT
BEGIN:VEVENT
DTSTART;VALUE=DATE:20230925
DTEND;VALUE=DATE:20240926
DTSTAMP:20260423T093452
CREATED:20230809T090353Z
LAST-MODIFIED:20240717T181158Z
UID:263718-1695600000-1727308799@roes.coop
SUMMARY:LIRA - Life In Rural Areas | 12 months funded volunteering (ESC)
DESCRIPTION:
URL:https://roes.coop/mobility/lira-life-in-rural-areas-12-months-funded-volunteering-esc/
LOCATION:Chiang Mai Province
CATEGORIES:Funded Volunteering
ATTACH;FMTTYPE=image/png:https://roes.coop/wp-content/uploads/2023/08/IJGD-4.png
END:VEVENT
BEGIN:VEVENT
DTSTART;VALUE=DATE:20231001
DTEND;VALUE=DATE:20241002
DTSTAMP:20260423T093452
CREATED:20230719T083723Z
LAST-MODIFIED:20240717T181122Z
UID:263604-1696118400-1727827199@roes.coop
SUMMARY:ESCalade Volunteering Mountain 3
DESCRIPTION:
URL:https://roes.coop/mobility/escalade-volunteering-mountain-3/
LOCATION:modigliani\, Italy
CATEGORIES:Individual Volunteering
ATTACH;FMTTYPE=image/png:https://roes.coop/wp-content/uploads/2023/07/Romania-2.png
END:VEVENT
BEGIN:VEVENT
DTSTART;VALUE=DATE:20231001
DTEND;VALUE=DATE:20241002
DTSTAMP:20260423T093452
CREATED:20230808T101019Z
LAST-MODIFIED:20230824T162258Z
UID:263708-1696118400-1727827199@roes.coop
SUMMARY:Haciendo Barrio | 12 months funded volunteering (ESC)
DESCRIPTION:
URL:https://roes.coop/mobility/haciendo-barrio-12-months-funded-volunteering-esc/
LOCATION:zaragoza\, spain
CATEGORIES:Funded Volunteering
ATTACH;FMTTYPE=image/png:https://roes.coop/wp-content/uploads/2023/08/IJGD-3.png
END:VEVENT
BEGIN:VEVENT
DTSTART;VALUE=DATE:20240305
DTEND;VALUE=DATE:20250201
DTSTAMP:20260423T093452
CREATED:20240305T140302Z
LAST-MODIFIED:20240305T140302Z
UID:265112-1709596800-1738367999@roes.coop
SUMMARY:Youthful Europe Action
DESCRIPTION:
URL:https://roes.coop/mobility/youthful-europe-action/
LOCATION:Rosà\, Italy\, Rosà\, Italy
CATEGORIES:Funded Volunteering
ATTACH;FMTTYPE=image/png:https://roes.coop/wp-content/uploads/2024/03/Youthful-Europe-Action.png
END:VEVENT
BEGIN:VEVENT
DTSTART;VALUE=DATE:20240513
DTEND;VALUE=DATE:20240525
DTSTAMP:20260423T093452
CREATED:20240202T131917Z
LAST-MODIFIED:20240202T131917Z
UID:264519-1715558400-1716595199@roes.coop
SUMMARY:Rise Up
DESCRIPTION:
URL:https://roes.coop/mobility/rise-up/
LOCATION:Upeslīči\, Jelgava – Latvia\, Latvia
CATEGORIES:Erasmus+ Youth Exchange
ATTACH;FMTTYPE=image/jpeg:https://roes.coop/wp-content/uploads/2024/01/Rise-Up-2.jpg
END:VEVENT
BEGIN:VEVENT
DTSTART;VALUE=DATE:20240519
DTEND;VALUE=DATE:20240528
DTSTAMP:20260423T093452
CREATED:20240320T234341Z
LAST-MODIFIED:20240328T225733Z
UID:265209-1716076800-1716854399@roes.coop
SUMMARY:Happily Ever After
DESCRIPTION:
URL:https://roes.coop/mobility/happily-ever-after/
LOCATION:Vác\, Hungary\, Hungary
CATEGORIES:Erasmus+ Training Course
ATTACH;FMTTYPE=image/jpeg:https://roes.coop/wp-content/uploads/2024/03/Happily-Ever-After-2-1.jpg
END:VEVENT
BEGIN:VEVENT
DTSTART;VALUE=DATE:20240522
DTEND;VALUE=DATE:20240531
DTSTAMP:20260423T093452
CREATED:20240324T174210Z
LAST-MODIFIED:20240325T210419Z
UID:265218-1716336000-1717113599@roes.coop
SUMMARY:Navigating Chaos 2.0
DESCRIPTION:
URL:https://roes.coop/mobility/navigating-chaos-2-0/
LOCATION:Lozen\, Bulgaria\, Bulgaria
CATEGORIES:Erasmus+ Training Course
ATTACH;FMTTYPE=image/jpeg:https://roes.coop/wp-content/uploads/2024/03/Navigating-Chaos-2.0.jpg
END:VEVENT
BEGIN:VEVENT
DTSTART;VALUE=DATE:20240523
DTEND;VALUE=DATE:20240527
DTSTAMP:20260423T093452
CREATED:20240415T163627Z
LAST-MODIFIED:20240429T114329Z
UID:265185-1716422400-1716767999@roes.coop
SUMMARY:Moving statues toward Gender equality
DESCRIPTION:
URL:https://roes.coop/mobility/must-gen-art-workshop-in-athens/
LOCATION:Tanzterrain\, Tinou 52-54\, Athens\, 113 61\, Greece
CATEGORIES:Other
ATTACH;FMTTYPE=image/png:https://roes.coop/wp-content/uploads/2024/04/Moving-statues-toward-Gender-equality-Workshop.png
ORGANIZER;CN="Roes Cooperativa":MAILTO:123456@gmail.kom
END:VEVENT
BEGIN:VEVENT
DTSTART;VALUE=DATE:20240524
DTEND;VALUE=DATE:20240531
DTSTAMP:20260423T093452
CREATED:20240224T123852Z
LAST-MODIFIED:20240224T124032Z
UID:264981-1716508800-1717113599@roes.coop
SUMMARY:Elements of Connection
DESCRIPTION:
URL:https://roes.coop/mobility/elements-of-connection/
LOCATION:Ommen\, The Netherlands
CATEGORIES:Erasmus+ Training Course
ATTACH;FMTTYPE=image/jpeg:https://roes.coop/wp-content/uploads/2024/02/Elements-of-Connection.jpg
END:VEVENT
BEGIN:VEVENT
DTSTART;VALUE=DATE:20240528
DTEND;VALUE=DATE:20240605
DTSTAMP:20260423T093452
CREATED:20240407T115348Z
LAST-MODIFIED:20240407T115348Z
UID:265275-1716854400-1717545599@roes.coop
SUMMARY:Be Free
DESCRIPTION:
URL:https://roes.coop/mobility/be-free/
LOCATION:Bergolo (CN)\, Italy
CATEGORIES:Erasmus+ Youth Exchange
ATTACH;FMTTYPE=image/jpeg:https://roes.coop/wp-content/uploads/2024/04/Be-Free.jpg
END:VEVENT
BEGIN:VEVENT
DTSTART;VALUE=DATE:20240601
DTEND;VALUE=DATE:20250602
DTSTAMP:20260423T093452
CREATED:20240411T193440Z
LAST-MODIFIED:20240415T135635Z
UID:265315-1717200000-1748822399@roes.coop
SUMMARY:Sharing Lives
DESCRIPTION:
URL:https://roes.coop/mobility/sharing-lives-2/
LOCATION:Santa Venera\, Malta\, Santa Venera\, Malta
CATEGORIES:Funded Volunteering
ATTACH;FMTTYPE=image/png:https://roes.coop/wp-content/uploads/2024/04/Sharing-Lives-1.png
ORGANIZER;CN="Agenzija Sapport":MAILTO:sharinglives.sapport@gov.mt
END:VEVENT
BEGIN:VEVENT
DTSTART;VALUE=DATE:20240602
DTEND;VALUE=DATE:20240609
DTSTAMP:20260423T093452
CREATED:20240203T170357Z
LAST-MODIFIED:20240717T180511Z
UID:264553-1717286400-1717891199@roes.coop
SUMMARY:Broad Perspectives
DESCRIPTION:
URL:https://roes.coop/mobility/broad-perspectives/
LOCATION:Ommen\, The Netherlands
CATEGORIES:Other
ATTACH;FMTTYPE=image/jpeg:https://roes.coop/wp-content/uploads/2024/02/Broad-Perspecives-1.jpg
END:VEVENT
BEGIN:VEVENT
DTSTART;VALUE=DATE:20240604
DTEND;VALUE=DATE:20240706
DTSTAMP:20260423T093452
CREATED:20240411T133719Z
LAST-MODIFIED:20240711T020238Z
UID:265302-1717459200-1720223999@roes.coop
SUMMARY:HUMUS
DESCRIPTION:
URL:https://roes.coop/mobility/humus/
LOCATION:Djurovo region\, Bulgaria\, Djurovo\, Bulgaria
CATEGORIES:Funded Volunteering
ATTACH;FMTTYPE=image/png:https://roes.coop/wp-content/uploads/2024/04/Humus.png
END:VEVENT
BEGIN:VEVENT
DTSTART;VALUE=DATE:20240612
DTEND;VALUE=DATE:20240623
DTSTAMP:20260423T093452
CREATED:20240201T080226Z
LAST-MODIFIED:20240226T113209Z
UID:264513-1718150400-1719100799@roes.coop
SUMMARY:Glee It Up! Again
DESCRIPTION:
URL:https://roes.coop/mobility/glee-it-up-again/
LOCATION:Hollókő – Hungary\, Hungary
CATEGORIES:Erasmus+ Youth Exchange
ATTACH;FMTTYPE=image/jpeg:https://roes.coop/wp-content/uploads/2024/01/Glee-It-Up-Again.jpg
END:VEVENT
BEGIN:VEVENT
DTSTART;VALUE=DATE:20240615
DTEND;VALUE=DATE:20240627
DTSTAMP:20260423T093452
CREATED:20240307T150020Z
LAST-MODIFIED:20240709T234354Z
UID:265132-1718409600-1719446399@roes.coop
SUMMARY:Unwind
DESCRIPTION:👉 Do you want to learn more about well-being and learn how to create meaningful activities for yourself and your community? Do you want to learn more about well-being and learn how to create meaningful activities for yourself and your community? Then this project might be ideal for you!
URL:https://roes.coop/mobility/unwind/
LOCATION:Ommen\, The Netherlands
CATEGORIES:Erasmus+ Youth Exchange
ATTACH;FMTTYPE=image/png:https://roes.coop/wp-content/uploads/2024/03/DreamShapers-3.0.png
END:VEVENT
BEGIN:VEVENT
DTSTART;VALUE=DATE:20240619
DTEND;VALUE=DATE:20240628
DTSTAMP:20260423T093452
CREATED:20240514T122535Z
LAST-MODIFIED:20240514T122535Z
UID:265417-1718755200-1719532799@roes.coop
SUMMARY:Introducing YOGA in Youth Work
DESCRIPTION:
URL:https://roes.coop/mobility/introducing-yoga-in-youth-work/
LOCATION:Chiang Mai Province
CATEGORIES:Erasmus+ Training Course
ATTACH;FMTTYPE=image/jpeg:https://roes.coop/wp-content/uploads/2024/05/Introducing-Yoga.jpg
END:VEVENT
BEGIN:VEVENT
DTSTART;VALUE=DATE:20240625
DTEND;VALUE=DATE:20240704
DTSTAMP:20260423T093452
CREATED:20240201T122755Z
LAST-MODIFIED:20240201T122755Z
UID:264548-1719273600-1720051199@roes.coop
SUMMARY:Hear(meou)t
DESCRIPTION:
URL:https://roes.coop/mobility/hearmeout/
LOCATION:Moravecké Pavlovice\, Czech Republic\, Czech Republic
CATEGORIES:Erasmus+ Training Course
ATTACH;FMTTYPE=image/jpeg:https://roes.coop/wp-content/uploads/2024/01/Hearmeout-1.jpg
END:VEVENT
BEGIN:VEVENT
DTSTART;VALUE=DATE:20240627
DTEND;VALUE=DATE:20240708
DTSTAMP:20260423T093452
CREATED:20240210T171843Z
LAST-MODIFIED:20240217T174723Z
UID:264682-1719446400-1720396799@roes.coop
SUMMARY:Make Your Move
DESCRIPTION:
URL:https://roes.coop/mobility/make-your-move/
LOCATION:IntelCOOP hotel\, Plovdiv\, Bulgaria\, Plovdiv\, Bulgaria
CATEGORIES:Erasmus+ Training Course
ATTACH;FMTTYPE=image/jpeg:https://roes.coop/wp-content/uploads/2024/02/Make-Your-Move.jpg
END:VEVENT
BEGIN:VEVENT
DTSTART;VALUE=DATE:20240629
DTEND;VALUE=DATE:20240708
DTSTAMP:20260423T093452
CREATED:20240410T211222Z
LAST-MODIFIED:20240711T114146Z
UID:265287-1719619200-1720396799@roes.coop
SUMMARY:Looking IN & OUT of yourself
DESCRIPTION:
URL:https://roes.coop/mobility/looking-in-out-of-yourself/
LOCATION:Duospat\, Bulgaria\, Bulgaria
CATEGORIES:Erasmus+ Training Course
ATTACH;FMTTYPE=image/jpeg:https://roes.coop/wp-content/uploads/2024/04/Looking-IN-OUT-of-yourself.jpg
END:VEVENT
BEGIN:VEVENT
DTSTART;VALUE=DATE:20240701
DTEND;VALUE=DATE:20250702
DTSTAMP:20260423T093452
CREATED:20240619T183811Z
LAST-MODIFIED:20240619T183811Z
UID:265505-1719792000-1751414399@roes.coop
SUMMARY:LEARNING LEAGUE: Learning to Learn and Other Superpowers
DESCRIPTION:
URL:https://roes.coop/mobility/learning-league-learning-to-learn-and-other-superpowers/
LOCATION:Cyprus
CATEGORIES:Funded Volunteering
ATTACH;FMTTYPE=image/png:https://roes.coop/wp-content/uploads/2024/06/Learning-League.png
END:VEVENT
BEGIN:VEVENT
DTSTART;VALUE=DATE:20240701
DTEND;VALUE=DATE:20250201
DTSTAMP:20260423T093452
CREATED:20240624T103416Z
LAST-MODIFIED:20240624T103520Z
UID:265528-1719792000-1738367999@roes.coop
SUMMARY:Link 20 years
DESCRIPTION:
URL:https://roes.coop/mobility/food-for-good-club-2/
LOCATION:Altamura\, Italy
CATEGORIES:Funded Volunteering
ATTACH;FMTTYPE=image/png:https://roes.coop/wp-content/uploads/2024/06/Link-20-years.png
END:VEVENT
BEGIN:VEVENT
DTSTART;VALUE=DATE:20240701
DTEND;VALUE=DATE:20250802
DTSTAMP:20260423T093452
CREATED:20240806T100303Z
LAST-MODIFIED:20240806T100433Z
UID:265679-1719792000-1754092799@roes.coop
SUMMARY:Kita Ritterburg
DESCRIPTION:
URL:https://roes.coop/mobility/kita-ritterburg/
LOCATION:Berlin\, Germany
CATEGORIES:Individual Volunteering
ATTACH;FMTTYPE=image/jpeg:https://roes.coop/wp-content/uploads/2024/08/Kita-Ritterburg.jpg
END:VEVENT
BEGIN:VEVENT
DTSTART;VALUE=DATE:20240701
DTEND;VALUE=DATE:20250702
DTSTAMP:20260423T093452
CREATED:20240806T101233Z
LAST-MODIFIED:20240806T101233Z
UID:265684-1719792000-1751414399@roes.coop
SUMMARY:Day-care Education at Fläming primary school
DESCRIPTION:
URL:https://roes.coop/mobility/day-care-education-at-flaming-primary-school/
LOCATION:Berlin\, Germany
CATEGORIES:Individual Volunteering
ATTACH;FMTTYPE=image/jpeg:https://roes.coop/wp-content/uploads/2024/08/Day-care-Education-at-Flaming-primary-school.jpg
END:VEVENT
BEGIN:VEVENT
DTSTART;VALUE=DATE:20240704
DTEND;VALUE=DATE:20240714
DTSTAMP:20260423T093452
CREATED:20240303T210038Z
LAST-MODIFIED:20240303T210038Z
UID:265061-1720051200-1720915199@roes.coop
SUMMARY:4+
DESCRIPTION:
URL:https://roes.coop/mobility/4/
LOCATION:Moravecké Pavlovice\, Czech Republic\, Czech Republic
CATEGORIES:Erasmus+ Training Course
ATTACH;FMTTYPE=image/jpeg:https://roes.coop/wp-content/uploads/2024/02/4-2.jpg
END:VEVENT
END:VCALENDAR