BEGIN:VCALENDAR
VERSION:2.0
PRODID:-//Roes Cooperativa - ECPv6.15.13//NONSGML v1.0//EN
CALSCALE:GREGORIAN
METHOD:PUBLISH
X-WR-CALNAME:Roes Cooperativa
X-ORIGINAL-URL:https://roes.coop
X-WR-CALDESC:Events for Roes Cooperativa
REFRESH-INTERVAL;VALUE=DURATION:PT1H
X-Robots-Tag:noindex
X-PUBLISHED-TTL:PT1H
BEGIN:VTIMEZONE
TZID:Europe/Athens
BEGIN:DAYLIGHT
TZOFFSETFROM:+0200
TZOFFSETTO:+0300
TZNAME:EEST
DTSTART:20220327T010000
END:DAYLIGHT
BEGIN:STANDARD
TZOFFSETFROM:+0300
TZOFFSETTO:+0200
TZNAME:EET
DTSTART:20221030T010000
END:STANDARD
BEGIN:DAYLIGHT
TZOFFSETFROM:+0200
TZOFFSETTO:+0300
TZNAME:EEST
DTSTART:20230326T010000
END:DAYLIGHT
BEGIN:STANDARD
TZOFFSETFROM:+0300
TZOFFSETTO:+0200
TZNAME:EET
DTSTART:20231029T010000
END:STANDARD
BEGIN:DAYLIGHT
TZOFFSETFROM:+0200
TZOFFSETTO:+0300
TZNAME:EEST
DTSTART:20240331T010000
END:DAYLIGHT
BEGIN:STANDARD
TZOFFSETFROM:+0300
TZOFFSETTO:+0200
TZNAME:EET
DTSTART:20241027T010000
END:STANDARD
BEGIN:DAYLIGHT
TZOFFSETFROM:+0200
TZOFFSETTO:+0300
TZNAME:EEST
DTSTART:20250330T010000
END:DAYLIGHT
BEGIN:STANDARD
TZOFFSETFROM:+0300
TZOFFSETTO:+0200
TZNAME:EET
DTSTART:20251026T010000
END:STANDARD
END:VTIMEZONE
BEGIN:VEVENT
DTSTART;TZID=Europe/Athens:20240305T080000
DTEND;TZID=Europe/Athens:20240305T170000
DTSTAMP:20260423T140905
CREATED:20240305T103120Z
LAST-MODIFIED:20240305T103120Z
UID:265101-1709625600-1709658000@roes.coop
SUMMARY:Lead to Succeed TC
DESCRIPTION:
URL:https://roes.coop/mobility/lead-to-succeed-tc/
LOCATION:Alhaurín De La Torre\, Spain
CATEGORIES:Erasmus+ Training Course
ATTACH;FMTTYPE=image/png:https://roes.coop/wp-content/uploads/2024/03/Lead-to-succeed-Tc.png
END:VEVENT
BEGIN:VEVENT
DTSTART;VALUE=DATE:20240225
DTEND;VALUE=DATE:20240305
DTSTAMP:20260423T140905
CREATED:20240117T125442Z
LAST-MODIFIED:20240118T081813Z
UID:264424-1708819200-1709596799@roes.coop
SUMMARY:Youth Space - Safe Space
DESCRIPTION:
URL:https://roes.coop/mobility/youth-space-safe-space/
LOCATION:Libchavy\, Czechia\, Czech Republic
CATEGORIES:Erasmus+ Training Course
ATTACH;FMTTYPE=image/jpeg:https://roes.coop/wp-content/uploads/2024/01/Youth-Space-Safe-Space.jpg
END:VEVENT
BEGIN:VEVENT
DTSTART;VALUE=DATE:20240220
DTEND;VALUE=DATE:20240229
DTSTAMP:20260423T140905
CREATED:20240203T220510Z
LAST-MODIFIED:20240206T130236Z
UID:264612-1708387200-1709164799@roes.coop
SUMMARY:Training on Hard Skills
DESCRIPTION:
URL:https://roes.coop/mobility/training-on-hard-skills/
LOCATION:Tetovo\, North Macedonia
CATEGORIES:Erasmus+ Training Course
ATTACH;FMTTYPE=image/jpeg:https://roes.coop/wp-content/uploads/2024/02/TRAINING-ON-HARD-SKILLS.jpg
END:VEVENT
BEGIN:VEVENT
DTSTART;VALUE=DATE:20240216
DTEND;VALUE=DATE:20240219
DTSTAMP:20260423T140905
CREATED:20240109T194646Z
LAST-MODIFIED:20240109T195756Z
UID:264347-1708041600-1708300799@roes.coop
SUMMARY:It Starts With Me!
DESCRIPTION:
URL:https://roes.coop/mobility/it-starts-with-me/
LOCATION:The Ranch\, Korinthos\, Sofiko\, 20004\, Greece
CATEGORIES:Erasmus+ Training Course
ATTACH;FMTTYPE=image/png:https://roes.coop/wp-content/uploads/2024/01/It-Starts-With-Me1.png
ORGANIZER;CN="Roes Cooperativa":MAILTO:123456@gmail.kom
END:VEVENT
BEGIN:VEVENT
DTSTART;VALUE=DATE:20240214
DTEND;VALUE=DATE:20240223
DTSTAMP:20260423T140905
CREATED:20240119T105015Z
LAST-MODIFIED:20240122T232225Z
UID:264444-1707868800-1708646399@roes.coop
SUMMARY:Desinged for Life
DESCRIPTION:
URL:https://roes.coop/mobility/desinged-for-life/
LOCATION:Hollókő – Hungary\, Hungary
CATEGORIES:Erasmus+ Training Course
ATTACH;FMTTYPE=image/jpeg:https://roes.coop/wp-content/uploads/2024/01/Designed-for-life.jpg
END:VEVENT
BEGIN:VEVENT
DTSTART;VALUE=DATE:20240214
DTEND;VALUE=DATE:20240224
DTSTAMP:20260423T140905
CREATED:20231122T121553Z
LAST-MODIFIED:20231122T130336Z
UID:264196-1707868800-1708732799@roes.coop
SUMMARY:Nonviolent Communication through Puppet Theatre
DESCRIPTION:
URL:https://roes.coop/mobility/nvctp/
LOCATION:Lukovit\, Bulgaria\, Bulgaria
CATEGORIES:Erasmus+ Training Course
ATTACH;FMTTYPE=image/jpeg:https://roes.coop/wp-content/uploads/2023/11/NVCTP-2.jpg
END:VEVENT
BEGIN:VEVENT
DTSTART;VALUE=DATE:20240210
DTEND;VALUE=DATE:20240220
DTSTAMP:20260423T140905
CREATED:20240114T000842Z
LAST-MODIFIED:20240114T000842Z
UID:264361-1707523200-1708387199@roes.coop
SUMMARY:Youth GreeIN - Sustainable Educational Ideas
DESCRIPTION:
URL:https://roes.coop/mobility/youth-greein/
LOCATION:Casa-famiglia San Francesco – Castagnetoli (MS)\, Castagnetoli\, Italy
CATEGORIES:Erasmus+ Youth Exchange
ATTACH;FMTTYPE=image/png:https://roes.coop/wp-content/uploads/2024/01/Youth-GreeIN-2.png
END:VEVENT
BEGIN:VEVENT
DTSTART;VALUE=DATE:20240207
DTEND;VALUE=DATE:20240214
DTSTAMP:20260423T140905
CREATED:20240104T173530Z
LAST-MODIFIED:20240104T174915Z
UID:264331-1707264000-1707868799@roes.coop
SUMMARY:Stories Act
DESCRIPTION:
URL:https://roes.coop/mobility/stories-act/
LOCATION:Ommen\, The Netherlands
CATEGORIES:Erasmus+ Training Course
ATTACH;FMTTYPE=image/png:https://roes.coop/wp-content/uploads/2024/01/Stories-Act-TC.png
END:VEVENT
BEGIN:VEVENT
DTSTART;VALUE=DATE:20240111
DTEND;VALUE=DATE:20240121
DTSTAMP:20260423T140905
CREATED:20231107T135104Z
LAST-MODIFIED:20231109T104527Z
UID:264110-1704931200-1705795199@roes.coop
SUMMARY:Mind-U
DESCRIPTION:
URL:https://roes.coop/mobility/mind-u/
LOCATION:Mollina\, Spain\, Mollina\, Spain
CATEGORIES:Erasmus+ Training Course
ATTACH;FMTTYPE=image/jpeg:https://roes.coop/wp-content/uploads/2023/11/Mind-U-1.jpg
END:VEVENT
BEGIN:VEVENT
DTSTART;VALUE=DATE:20240105
DTEND;VALUE=DATE:20240114
DTSTAMP:20260423T140905
CREATED:20231107T102938Z
LAST-MODIFIED:20231109T104448Z
UID:264097-1704412800-1705190399@roes.coop
SUMMARY:From dots to lines
DESCRIPTION:
URL:https://roes.coop/mobility/from-dots-to-lines/
LOCATION:Casa-famiglia San Francesco – Castagnetoli (MS)\, Castagnetoli\, Italy
CATEGORIES:Erasmus+ Training Course
ATTACH;FMTTYPE=image/jpeg:https://roes.coop/wp-content/uploads/2023/11/From-dots-to-lines.jpg
END:VEVENT
BEGIN:VEVENT
DTSTART;VALUE=DATE:20231206
DTEND;VALUE=DATE:20231215
DTSTAMP:20260423T140905
CREATED:20231007T154838Z
LAST-MODIFIED:20240717T180910Z
UID:264052-1701820800-1702598399@roes.coop
SUMMARY:Be Aware
DESCRIPTION:
URL:https://roes.coop/mobility/be-aware/
LOCATION:Lecce\, Italy\, Italy
CATEGORIES:Erasmus+ Youth Exchange
ATTACH;FMTTYPE=image/jpeg:https://roes.coop/wp-content/uploads/2023/10/Be-Aware.jpg
END:VEVENT
BEGIN:VEVENT
DTSTART;VALUE=DATE:20231202
DTEND;VALUE=DATE:20231209
DTSTAMP:20260423T140905
CREATED:20231018T231731Z
LAST-MODIFIED:20231018T231731Z
UID:264075-1701475200-1702079999@roes.coop
SUMMARY:Stories Untold
DESCRIPTION:
URL:https://roes.coop/mobility/stories-untold/
LOCATION:Pervolia\, Cyprus\, Cyprus
CATEGORIES:Erasmus+ Youth Exchange
ATTACH;FMTTYPE=image/jpeg:https://roes.coop/wp-content/uploads/2023/10/Stories-Untold-1.jpg
END:VEVENT
BEGIN:VEVENT
DTSTART;VALUE=DATE:20231130
DTEND;VALUE=DATE:20231207
DTSTAMP:20260423T140905
CREATED:20230823T090418Z
LAST-MODIFIED:20230902T104321Z
UID:263753-1701302400-1701907199@roes.coop
SUMMARY:Wholeheartedly
DESCRIPTION:
URL:https://roes.coop/mobility/wholeheartedly/
LOCATION:Ommen\, The Netherlands
CATEGORIES:Erasmus+ Training Course
ATTACH;FMTTYPE=image/png:https://roes.coop/wp-content/uploads/2023/08/Wholeheartedly.png
END:VEVENT
BEGIN:VEVENT
DTSTART;VALUE=DATE:20231121
DTEND;VALUE=DATE:20231127
DTSTAMP:20260423T140905
CREATED:20231016T095253Z
LAST-MODIFIED:20240717T180946Z
UID:264065-1700524800-1701043199@roes.coop
SUMMARY:ConnESCtion
DESCRIPTION:
URL:https://roes.coop/mobility/connesction/
LOCATION:Terrassa\, Spain\, Spain
CATEGORIES:Other
ATTACH;FMTTYPE=image/jpeg:https://roes.coop/wp-content/uploads/2023/10/ConnESCtion-1.jpg
END:VEVENT
BEGIN:VEVENT
DTSTART;VALUE=DATE:20231110
DTEND;VALUE=DATE:20231121
DTSTAMP:20260423T140905
CREATED:20230919T100138Z
LAST-MODIFIED:20230919T100138Z
UID:263987-1699574400-1700524799@roes.coop
SUMMARY:improWISE 4.0
DESCRIPTION:
URL:https://roes.coop/mobility/improwise-4-0/
LOCATION:Murzasichle\, Poland\, Poland
CATEGORIES:Erasmus+ Training Course
ATTACH;FMTTYPE=image/jpeg:https://roes.coop/wp-content/uploads/2023/09/improWISE-4.0.jpg
END:VEVENT
BEGIN:VEVENT
DTSTART;VALUE=DATE:20231106
DTEND;VALUE=DATE:20231116
DTSTAMP:20260423T140905
CREATED:20230919T090155Z
LAST-MODIFIED:20230919T090155Z
UID:264004-1699228800-1700092799@roes.coop
SUMMARY:Ultimately Advanced Training of Trainers
DESCRIPTION:
URL:https://roes.coop/mobility/ultimately-advanced-training-of-trainers/
LOCATION:Plovdiv\, Bulgaria\, Bulgaria
CATEGORIES:Erasmus+ Training Course
ATTACH;FMTTYPE=image/jpeg:https://roes.coop/wp-content/uploads/2023/09/Ultimately-Advanced-training-of-trainers.jpg
END:VEVENT
BEGIN:VEVENT
DTSTART;VALUE=DATE:20231103
DTEND;VALUE=DATE:20231107
DTSTAMP:20260423T140905
CREATED:20230823T141544Z
LAST-MODIFIED:20230907T153540Z
UID:263761-1698969600-1699315199@roes.coop
SUMMARY:MiGiS: Migrant Girls in Sports - Never Behind Again!
DESCRIPTION:
URL:https://roes.coop/mobility/migis/
LOCATION:Sofia\, Bulgaria\, Bulgaria
CATEGORIES:Erasmus+ Training Course
ATTACH;FMTTYPE=image/png:https://roes.coop/wp-content/uploads/2023/08/MIGIS-1.png
END:VEVENT
BEGIN:VEVENT
DTSTART;VALUE=DATE:20231031
DTEND;VALUE=DATE:20231110
DTSTAMP:20260423T140905
CREATED:20230902T104617Z
LAST-MODIFIED:20230902T104617Z
UID:263849-1698710400-1699574399@roes.coop
SUMMARY:Wild Connections
DESCRIPTION:
URL:https://roes.coop/mobility/wild-connections/
LOCATION:Velké Pavlovice\, Czech Republic
CATEGORIES:Erasmus+ Training Course
ATTACH;FMTTYPE=image/jpeg:https://roes.coop/wp-content/uploads/2023/09/Wild-Connections.jpg
END:VEVENT
BEGIN:VEVENT
DTSTART;VALUE=DATE:20231031
DTEND;VALUE=DATE:20231112
DTSTAMP:20260423T140905
CREATED:20230821T200106Z
LAST-MODIFIED:20230821T200415Z
UID:263730-1698710400-1699747199@roes.coop
SUMMARY:New Sprouts
DESCRIPTION:
URL:https://roes.coop/mobility/new-sprouts/
LOCATION:Hopeland\, Greece
CATEGORIES:Erasmus+ Training Course
ATTACH;FMTTYPE=image/jpeg:https://roes.coop/wp-content/uploads/2023/08/New-Sprouts-Infopack.jpg
ORGANIZER;CN="Roes Cooperativa":MAILTO:123456@gmail.kom
END:VEVENT
BEGIN:VEVENT
DTSTART;VALUE=DATE:20231030
DTEND;VALUE=DATE:20231109
DTSTAMP:20260423T140905
CREATED:20230908T122747Z
LAST-MODIFIED:20230908T122747Z
UID:263873-1698624000-1699487999@roes.coop
SUMMARY:Ecopreneurs 2.0
DESCRIPTION:
URL:https://roes.coop/mobility/ecopreneurs-2-0/
LOCATION:Dobczyce\, Poland\, Poland
CATEGORIES:Erasmus+ Training Course
ATTACH;FMTTYPE=image/jpeg:https://roes.coop/wp-content/uploads/2023/09/Ecopreneurs-2.0.jpg
END:VEVENT
BEGIN:VEVENT
DTSTART;VALUE=DATE:20231028
DTEND;VALUE=DATE:20231107
DTSTAMP:20260423T140905
CREATED:20230918T224900Z
LAST-MODIFIED:20230919T081005Z
UID:263996-1698451200-1699315199@roes.coop
SUMMARY:Let's talk about sex
DESCRIPTION:
URL:https://roes.coop/mobility/lets-talk-about-sex/
CATEGORIES:Erasmus+ Training Course
ATTACH;FMTTYPE=image/jpeg:https://roes.coop/wp-content/uploads/2023/09/Lets-talk-about-sex-TC.jpg
END:VEVENT
BEGIN:VEVENT
DTSTART;TZID=Europe/Athens:20231026T080000
DTEND;TZID=Europe/Athens:20231026T170000
DTSTAMP:20260423T140905
CREATED:20231025T223551Z
LAST-MODIFIED:20231026T080628Z
UID:264086-1698307200-1698339600@roes.coop
SUMMARY:Keys For Change Reloaded
DESCRIPTION:
URL:https://roes.coop/mobility/keys-for-change-reloaded/
LOCATION:Hollókő – Hungary\, Hungary
CATEGORIES:Erasmus+ Training Course
ATTACH;FMTTYPE=image/jpeg:https://roes.coop/wp-content/uploads/2023/10/Keys-For-Change-Reloaded.jpg
END:VEVENT
BEGIN:VEVENT
DTSTART;VALUE=DATE:20231026
DTEND;VALUE=DATE:20231107
DTSTAMP:20260423T140905
CREATED:20230930T173814Z
LAST-MODIFIED:20230930T173814Z
UID:264024-1698278400-1699315199@roes.coop
SUMMARY:Green Changemakers
DESCRIPTION:
URL:https://roes.coop/mobility/green-changemakers/
LOCATION:Sovata\, Romania\, Romania
CATEGORIES:Erasmus+ Youth Exchange
ATTACH;FMTTYPE=image/jpeg:https://roes.coop/wp-content/uploads/2023/09/Green-changemakers.jpg
END:VEVENT
BEGIN:VEVENT
DTSTART;VALUE=DATE:20231024
DTEND;VALUE=DATE:20231031
DTSTAMP:20260423T140905
CREATED:20230831T112202Z
LAST-MODIFIED:20230919T151450Z
UID:263844-1698105600-1698710399@roes.coop
SUMMARY:E-mployed: Train the Trainer
DESCRIPTION:
URL:https://roes.coop/mobility/e-mployed/
LOCATION:Vata de Jos\, Romania
CATEGORIES:Erasmus+ Training Course
ATTACH;FMTTYPE=image/png:https://roes.coop/wp-content/uploads/2023/08/Employed.png
END:VEVENT
BEGIN:VEVENT
DTSTART;VALUE=DATE:20231009
DTEND;VALUE=DATE:20231020
DTSTAMP:20260423T140905
CREATED:20230824T125115Z
LAST-MODIFIED:20230915T101319Z
UID:263781-1696809600-1697759999@roes.coop
SUMMARY:Let's talk about sex IV
DESCRIPTION:
URL:https://roes.coop/mobility/lets-talk-about-sex-iv/
LOCATION:Germany\, Osterholz-Scharmbeckollókő
CATEGORIES:Erasmus+ Youth Exchange
ATTACH;FMTTYPE=image/png:https://roes.coop/wp-content/uploads/2023/08/LTAS.png
END:VEVENT
BEGIN:VEVENT
DTSTART;VALUE=DATE:20231009
DTEND;VALUE=DATE:20231019
DTSTAMP:20260423T140905
CREATED:20230823T074945Z
LAST-MODIFIED:20230908T123340Z
UID:263739-1696809600-1697673599@roes.coop
SUMMARY:EDU-facilitation 2
DESCRIPTION:
URL:https://roes.coop/mobility/edu-facilitation-2/
LOCATION:Adamov\, Czech Republic\, Adamov\, Czech Republic
CATEGORIES:Erasmus+ Training Course
ATTACH;FMTTYPE=image/png:https://roes.coop/wp-content/uploads/2023/08/EDU-facilitation-2.png
END:VEVENT
BEGIN:VEVENT
DTSTART;VALUE=DATE:20231006
DTEND;VALUE=DATE:20231009
DTSTAMP:20260423T140905
CREATED:20230907T131527Z
LAST-MODIFIED:20230907T131527Z
UID:263858-1696550400-1696809599@roes.coop
SUMMARY:FATE - From Art to Empowerment
DESCRIPTION:
URL:https://roes.coop/mobility/fate-from-art-to-empowerment/
LOCATION:Warsaw\, Poland
CATEGORIES:Other
ATTACH;FMTTYPE=image/jpeg:https://roes.coop/wp-content/uploads/2023/09/Fate-study-visit.jpg
END:VEVENT
BEGIN:VEVENT
DTSTART;VALUE=DATE:20231005
DTEND;VALUE=DATE:20231012
DTSTAMP:20260423T140905
CREATED:20230919T151042Z
LAST-MODIFIED:20230919T151510Z
UID:264016-1696464000-1697068799@roes.coop
SUMMARY:Leading From Within
DESCRIPTION:
URL:https://roes.coop/mobility/leading-from-within/
LOCATION:Hopeland\, Greece
CATEGORIES:Erasmus+ Training Course
ATTACH;FMTTYPE=image/png:https://roes.coop/wp-content/uploads/2023/09/LEADING-FROM-WITHIN-RORE.png
END:VEVENT
BEGIN:VEVENT
DTSTART;VALUE=DATE:20231004
DTEND;VALUE=DATE:20231013
DTSTAMP:20260423T140905
CREATED:20230911T123314Z
LAST-MODIFIED:20240717T181030Z
UID:263878-1696377600-1697155199@roes.coop
SUMMARY:You Hiker
DESCRIPTION:
URL:https://roes.coop/mobility/you-hiker/
LOCATION:Vila Sanzila\, Lithuania\, Lithuania
CATEGORIES:Erasmus+ Training Course
ATTACH;FMTTYPE=image/jpeg:https://roes.coop/wp-content/uploads/2023/09/You-Hiker.jpg
END:VEVENT
BEGIN:VEVENT
DTSTART;VALUE=DATE:20230820
DTEND;VALUE=DATE:20230905
DTSTAMP:20260423T140905
CREATED:20230718T112815Z
LAST-MODIFIED:20230824T162354Z
UID:263587-1692489600-1693871999@roes.coop
SUMMARY:Life On Earth And Risk Prevention (LEAP)
DESCRIPTION:Learning opportunities\n			\n				\n				\n				\n				\n				what’s your stream? \n			\n			\n				\n				\n				\n				\n			\n				\n				\n			\n				\n				\n				\n				\n				\n				\n				\n				\n				\n				\n				\n				\n				\n				\n				\n				\n				\n				\n			\n				\n				\n				\n				\n				Wider Horizon\n			\n				\n				\n				\n				\n				\n					R\n					\n						Volunteering Opportunity \n						\n					\n				\n			\n				\n				\n				\n				\n				\n					\n					\n						May 9\, 2026\n						\n					\n				\n			\n				\n				\n				\n				\n				\n					\n					\n						Netherlands\n						\n					\n				\n			\n				\n				\n				\n				\n				\n					\n					\n						18–30 years old\n						\n					\n				\n			\n				\n				\n				\n				\n				\n					\n					\n						ASAP\n						\n					\n				\n			\n				Infoletter\n			\n				Apply now\n			\n			\n				\n				\n				\n				\n				\n				\n				\n				\n				\n				\n					DescriptionObjectivesParticipant's profile\n				\n				\n					\n				\n				\n				\n				\n				Wider Horizon is a 2-month volunteering programme offering young people a first experience abroad in a group setting. It is designed for those who are re-evaluating their direction in life and want to explore new possibilities. Olde Vechte has been a living\, working\, and learning space since 2006\, offering education outside formal systems. Volunteers engage in daily hands-on activities such as maintaining the venue\, cooking for groups\, supporting events\, and contributing to local initiatives\, while having space to develop their own ideas. Accommodation\, food\, insurance\, and pocket money are covered.\n			\n				\n				\n				\n				\n				• Offer a first international volunteering experience in a safe group setting\n• Support personal reflection and life direction for young people\n• Encourage learning through practical\, hands-on activities\n• Foster independence and initiative in a new environment\n• Promote inclusion by involving participants with fewer opportunities\n• Support the daily functioning and development of the hosting venue \n\n			\n				\n				\n				\n				\n				• 18–30 years old\n• EU citizens or eligible countries with visa-free Schengen access\n• Young people from rural areas\, minority backgrounds\, or facing social/economic challenges\n• Those experiencing burnout\, health struggles\, or life transitions\n• Motivated to join group living and practical work\n• Open to international experience and self-development
URL:https://roes.coop/mobility/life-on-earth-and-risk-prevention-leap/
LOCATION:Marostica\, Italy
CATEGORIES:Funded Volunteering
ATTACH;FMTTYPE=image/png:https://roes.coop/wp-content/uploads/2023/07/Romania-1-1.png
END:VEVENT
END:VCALENDAR