BEGIN:VCALENDAR
VERSION:2.0
PRODID:-//Roes Cooperativa - ECPv6.15.13//NONSGML v1.0//EN
CALSCALE:GREGORIAN
METHOD:PUBLISH
X-ORIGINAL-URL:https://roes.coop
X-WR-CALDESC:Events for Roes Cooperativa
REFRESH-INTERVAL;VALUE=DURATION:PT1H
X-Robots-Tag:noindex
X-PUBLISHED-TTL:PT1H
BEGIN:VTIMEZONE
TZID:Europe/Athens
BEGIN:DAYLIGHT
TZOFFSETFROM:+0200
TZOFFSETTO:+0300
TZNAME:EEST
DTSTART:20220327T010000
END:DAYLIGHT
BEGIN:STANDARD
TZOFFSETFROM:+0300
TZOFFSETTO:+0200
TZNAME:EET
DTSTART:20221030T010000
END:STANDARD
BEGIN:DAYLIGHT
TZOFFSETFROM:+0200
TZOFFSETTO:+0300
TZNAME:EEST
DTSTART:20230326T010000
END:DAYLIGHT
BEGIN:STANDARD
TZOFFSETFROM:+0300
TZOFFSETTO:+0200
TZNAME:EET
DTSTART:20231029T010000
END:STANDARD
BEGIN:DAYLIGHT
TZOFFSETFROM:+0200
TZOFFSETTO:+0300
TZNAME:EEST
DTSTART:20240331T010000
END:DAYLIGHT
BEGIN:STANDARD
TZOFFSETFROM:+0300
TZOFFSETTO:+0200
TZNAME:EET
DTSTART:20241027T010000
END:STANDARD
END:VTIMEZONE
BEGIN:VEVENT
DTSTART;VALUE=DATE:20230301
DTEND;VALUE=DATE:20231202
DTSTAMP:20260425T143840
CREATED:20230427T084433Z
LAST-MODIFIED:20240717T181357Z
UID:262705-1677628800-1701475199@roes.coop
SUMMARY:L.E.A.D.
DESCRIPTION:
URL:https://roes.coop/mobility/l-e-a-d/
LOCATION:Sofia\, Bulgaria\, Bulgaria
CATEGORIES:Funded Volunteering
ATTACH;FMTTYPE=image/jpeg:https://roes.coop/wp-content/uploads/2023/04/lead.jpeg
END:VEVENT
BEGIN:VEVENT
DTSTART;VALUE=DATE:20230503
DTEND;VALUE=DATE:20230610
DTSTAMP:20260425T143840
CREATED:20230427T081756Z
LAST-MODIFIED:20230824T162713Z
UID:262703-1683072000-1686355199@roes.coop
SUMMARY:Pride Begins
DESCRIPTION:
URL:https://roes.coop/mobility/pride-begins/
LOCATION:Riga\, Latvia\, Riga
CATEGORIES:Erasmus+ Youth Exchange
ATTACH;FMTTYPE=image/jpeg:https://roes.coop/wp-content/uploads/2023/04/pride-begins.jpeg
END:VEVENT
BEGIN:VEVENT
DTSTART;VALUE=DATE:20230516
DTEND;VALUE=DATE:20230521
DTSTAMP:20260425T143840
CREATED:20230427T080343Z
LAST-MODIFIED:20230824T162721Z
UID:262707-1684195200-1684627199@roes.coop
SUMMARY:Be Well\, Be You
DESCRIPTION:
URL:https://roes.coop/mobility/be-well-be-you/
LOCATION:Vojnić\, Croatia\, Vojnić
ATTACH;FMTTYPE=image/jpeg:https://roes.coop/wp-content/uploads/2023/04/bewell.jpeg
END:VEVENT
BEGIN:VEVENT
DTSTART;VALUE=DATE:20230516
DTEND;VALUE=DATE:20230521
DTSTAMP:20260425T143840
CREATED:20230824T154114Z
LAST-MODIFIED:20230914T092838Z
UID:263798-1684195200-1684627199@roes.coop
SUMMARY:Be Well\, Be You
DESCRIPTION:
URL:https://roes.coop/mobility/be-well-be-you-2/
LOCATION:Vojnić\, Croatia\, Vojnić
CATEGORIES:Erasmus+ Training Course
ATTACH;FMTTYPE=image/jpeg:https://roes.coop/wp-content/uploads/2023/04/bewell.jpeg
END:VEVENT
END:VCALENDAR